BEGIN:VCALENDAR
VERSION:2.0
PRODID:-//ChamberMaster//Event Calendar 2.0//EN
METHOD:PUBLISH
X-PUBLISHED-TTL:P3D
REFRESH-INTERVAL:P3D
CALSCALE:GREGORIAN
BEGIN:VEVENT
DTSTART:20180421T023000Z
DTEND:20180422T043000Z
X-MICROSOFT-CDO-ALLDAYEVENT:FALSE
SUMMARY:9 to 5 (1980) at 7th St. Theatre
DESCRIPTION:Tickets are $6 for all ages.\n\nTickets are available at Harbor Drug\, Crown Drug\, City Drug\, online or at the 30 minutes before the show.\n\n\n\nJane Fonda\, Lily Tomlin and Dolly Parton had fun at work delivering loads of laughs as the suffering assistants who outsmart their "sexist\, egotistical\, lying\, hypocritical bigot" of a boss\, Dabney Coleman. Parton made her big screen debut in this 1980 comedy and wrote and performed the hit title song\, which won two Grammy Awards.\n\n\n\nLocally sponsored by Fern Hill Funeral Home\, Grays Harbor College\, Jeff Cook & Becky Walsh\, Ray Kahler & Callie White\, Pasha Automotive Services\, Wunderland Childcare Centers\, Alpha Media Grays Harbor\, and Jodesha Broadcasting.
X-ALT-DESC;FMTTYPE=text/html:<span style="color: rgb(75\, 79\, 86)\; font-family: Helvetica\, Arial\, sans-serif\; font-size: 14px\; background-color: rgb(255\, 255\, 255)\;">Tickets are $6 for all ages.</span><br style="color: rgb(75\, 79\, 86)\; font-family: Helvetica\, Arial\, sans-serif\; font-size: 14px\; background-color: rgb(255\, 255\, 255)\;" />\n<span style="color: rgb(75\, 79\, 86)\; font-family: Helvetica\, Arial\, sans-serif\; font-size: 14px\; background-color: rgb(255\, 255\, 255)\;">Tickets are available at Harbor Drug\, Crown Drug\, City Drug\, online or at the 30 minutes before the show.</span><br style="color: rgb(75\, 79\, 86)\; font-family: Helvetica\, Arial\, sans-serif\; font-size: 14px\; background-color: rgb(255\, 255\, 255)\;" />\n<br style="color: rgb(75\, 79\, 86)\; font-family: Helvetica\, Arial\, sans-serif\; font-size: 14px\; background-color: rgb(255\, 255\, 255)\;" />\n<span style="color: rgb(75\, 79\, 86)\; font-family: Helvetica\, Arial\, sans-serif\; font-size: 14px\; background-color: rgb(255\, 255\, 255)\;">Jane Fonda\, Lily Tomlin and Dolly Parton had fun at work delivering loads of laughs as the suffering assistants who outsmart their &ldquo\;sexist\, egotistical\, lying\, hypocritical bigot&rdquo\; of a boss\, Dabney Coleman. Parton made her big screen debut in this 1980 comedy and wrote and performed the hit title song\, which won two Grammy Awards.</span><br style="color: rgb(75\, 79\, 86)\; font-family: Helvetica\, Arial\, sans-serif\; font-size: 14px\; background-color: rgb(255\, 255\, 255)\;" />\n<br style="color: rgb(75\, 79\, 86)\; font-family: Helvetica\, Arial\, sans-serif\; font-size: 14px\; background-color: rgb(255\, 255\, 255)\;" />\n<span style="color: rgb(75\, 79\, 86)\; font-family: Helvetica\, Arial\, sans-serif\; font-size: 14px\; background-color: rgb(255\, 255\, 255)\;">Locally sponsored by Fern Hill Funeral Home\, Grays Harbor College\, Jeff Cook &amp\; Becky Walsh\, Ray Kahler &amp\; Callie White\, Pasha Automotive Services\, Wunderland Childcare Centers\, Alpha Media Grays Harbor\, and Jodesha Broadcasting.</span>
LOCATION:7th St. Theatre Hoquiam\, WA
UID:e.26.10613
SEQUENCE:3
DTSTAMP:20260425T113834Z
URL:https://chamber.graysharbor.org/events/details/9-to-5-1980-at-7th-st-theatre-10613
END:VEVENT

END:VCALENDAR
