BEGIN:VCALENDAR
VERSION:2.0
PRODID:-//ChamberMaster//Event Calendar 2.0//EN
METHOD:PUBLISH
X-PUBLISHED-TTL:P3D
REFRESH-INTERVAL:P3D
CALSCALE:GREGORIAN
BEGIN:VEVENT
DTSTART;VALUE=DATE:20170812
DTEND;VALUE=DATE:20170814
TRANSP:TRANSPARENT
X-MICROSOFT-CDO-ALLDAYEVENT:TRUE
SUMMARY:9th Annual Tuna Classic
DESCRIPTION:Charitable tuna derby in Westport.\n\n\n\n The Washington Tuna Classic is a registered 501(c) (3) charity founded on the basic principle of giving back to the community while having fun.  We are a truly hardcore fishing tournament with over ten thousand dollars in awards and donated prizes our first year but we find as many ways possible to give back to the community in the process.  We lead by example! The Washington Tuna Classic is an all volunteer organization
X-ALT-DESC;FMTTYPE=text/html:Charitable tuna derby in Westport.<br />\n<br />\n<span class="style3"><strong><span mce_style="font-family: Arial\; color: #ff3300\; font-size: medium\;" style="color: rgb(255\, 51\, 0)\; font-family: Arial\; font-size: medium\;">&nbsp\;</span></strong></span>The Washington Tuna Classic is a registered 501(c) (3) charity founded on the basic principle of giving back to the community while having fun.&nbsp\; We are&nbsp\;a truly hardcore fishing tournament with over ten thousand dollars in awards and donated prizes our first year but we find as many ways possible&nbsp\;to give back to the community in the process.&nbsp\; We lead by example! The Washington Tuna Classic is an all volunteer organization
LOCATION:Westport\, WA
UID:e.26.7603
SEQUENCE:3
DTSTAMP:20260425T230156Z
URL:https://chamber.graysharbor.org/events/details/9th-annual-tuna-classic-7603
END:VEVENT

END:VCALENDAR
