BEGIN:VCALENDAR
VERSION:2.0
PRODID:-//ChamberMaster//Event Calendar 2.0//EN
METHOD:PUBLISH
X-PUBLISHED-TTL:P3D
REFRESH-INTERVAL:P3D
CALSCALE:GREGORIAN
BEGIN:VEVENT
DTSTART;VALUE=DATE:20190830
DTEND;VALUE=DATE:20190902
TRANSP:TRANSPARENT
X-MICROSOFT-CDO-ALLDAYEVENT:TRUE
SUMMARY:A.A.O.S. Arts and Crafts Festival
DESCRIPTION:An end of summer annual event. Visit one of Western Washington's largest indoor & outdoor handmade arts and crafts fair. 1\,000's of unique items are showcased by gifted artists and talented craftspeople. Admission is free
X-ALT-DESC;FMTTYPE=text/html:<span style="background-color:rgb(255\, 255\, 255)\; color:rgb(128\, 128\, 128)\; font-family:lato\,sans-serif\; font-size:17.008px">An end of summer annual event. Visit one of Western Washington&#39\;s largest indoor &amp\; outdoor handmade arts and crafts fair. 1\,000&#39\;s of unique items are showcased by gifted artists and talented craftspeople. Admission is free</span>
LOCATION:Ocean Shores Convention Center 120 W Chance A La Mer Ave Ocean Shores\, WA 98569
UID:e.26.11872
SEQUENCE:3
DTSTAMP:20260424T074425Z
URL:https://chamber.graysharbor.org/events/details/a-a-o-s-arts-and-crafts-festival-11872
END:VEVENT

END:VCALENDAR
