BEGIN:VCALENDAR
VERSION:2.0
PRODID:-//ChamberMaster//Event Calendar 2.0//EN
METHOD:PUBLISH
X-PUBLISHED-TTL:P3D
REFRESH-INTERVAL:P3D
CALSCALE:GREGORIAN
BEGIN:VEVENT
DTSTART:20190403T190000Z
DTEND:20190403T200000Z
X-MICROSOFT-CDO-ALLDAYEVENT:FALSE
SUMMARY:A Bit of Everything Ribbon Cutting
DESCRIPTION:The Greater Grays Harbor\, Inc. Ambassador Team will be hosting a ribbon cutting at "A Bit of Everything" located in the Shoppes at Riverside (1017 S Boone St. Suite 310) in Aberdeen. This event will take place at noon on Wednesday\, April 3rd. \n\n\n\nA Bit of Everything is a new\, handmade\, vintage and lightly used store offering a variety of items with always changing stock. They also have great gift ideas and cards for all occasions. \n\n\n\nPlease join us and help support this local business in Grays Harbor!
X-ALT-DESC;FMTTYPE=text/html:<span style="caret-color: rgb(29\, 33\, 41)\; color: rgb(29\, 33\, 41)\; font-family: system-ui\, -apple-system\, BlinkMacSystemFont\, &quot\;.SFNSText-Regular&quot\;\, sans-serif\; font-size: 14px\; white-space: pre-wrap\;">The Greater Grays Harbor\, Inc. Ambassador Team will be hosting a ribbon cutting at &ldquo\;A Bit of Everything&rdquo\; located in the Shoppes at Riverside (1017 S Boone St. Suite 310) in Aberdeen. This event will take place at noon on Wednesday\, April 3rd. </span><br style="caret-color: rgb(29\, 33\, 41)\; color: rgb(29\, 33\, 41)\; font-family: system-ui\, -apple-system\, BlinkMacSystemFont\, &quot\;.SFNSText-Regular&quot\;\, sans-serif\; font-size: 14px\; white-space: pre-wrap\;" />\n<br style="caret-color: rgb(29\, 33\, 41)\; color: rgb(29\, 33\, 41)\; font-family: system-ui\, -apple-system\, BlinkMacSystemFont\, &quot\;.SFNSText-Regular&quot\;\, sans-serif\; font-size: 14px\; white-space: pre-wrap\;" />\n<span style="caret-color: rgb(29\, 33\, 41)\; color: rgb(29\, 33\, 41)\; font-family: system-ui\, -apple-system\, BlinkMacSystemFont\, &quot\;.SFNSText-Regular&quot\;\, sans-serif\; font-size: 14px\; white-space: pre-wrap\;">A Bit of Everything is a new\, handmade\, vintage and lightly used store offering a variety of items with always changing stock. They also have great gift ideas and cards for all occasions. </span><br style="caret-color: rgb(29\, 33\, 41)\; color: rgb(29\, 33\, 41)\; font-family: system-ui\, -apple-system\, BlinkMacSystemFont\, &quot\;.SFNSText-Regular&quot\;\, sans-serif\; font-size: 14px\; white-space: pre-wrap\;" />\n<br style="caret-color: rgb(29\, 33\, 41)\; color: rgb(29\, 33\, 41)\; font-family: system-ui\, -apple-system\, BlinkMacSystemFont\, &quot\;.SFNSText-Regular&quot\;\, sans-serif\; font-size: 14px\; white-space: pre-wrap\;" />\n<span style="caret-color: rgb(29\, 33\, 41)\; color: rgb(29\, 33\, 41)\; font-family: system-ui\, -apple-system\, BlinkMacSystemFont\, &quot\;.SFNSText-Regular&quot\;\, sans-serif\; font-size: 14px\; white-space: pre-wrap\;">Please join us and help support this local business in Grays Harbor!</span>
LOCATION:A Bit of Everything Shoppes at Riverside Aberdeen\, WA
UID:e.26.11891
SEQUENCE:3
DTSTAMP:20260424T163540Z
URL:https://chamber.graysharbor.org/events/details/a-bit-of-everything-ribbon-cutting-11891
END:VEVENT

END:VCALENDAR
