BEGIN:VCALENDAR
VERSION:2.0
PRODID:-//ChamberMaster//Event Calendar 2.0//EN
METHOD:PUBLISH
X-PUBLISHED-TTL:P3D
REFRESH-INTERVAL:P3D
CALSCALE:GREGORIAN
BEGIN:VEVENT
DTSTART:20181028T010000Z
DTEND:20181028T040000Z
X-MICROSOFT-CDO-ALLDAYEVENT:FALSE
SUMMARY:A Bloody Good Time Halloween
DESCRIPTION:
X-ALT-DESC;FMTTYPE=text/html:
LOCATION:Oyhut Bay Ocean Shores\, WA
UID:e.26.11309
SEQUENCE:3
DTSTAMP:20260425T002151Z
URL:https://chamber.graysharbor.org/events/details/a-bloody-good-time-halloween-11309
END:VEVENT

END:VCALENDAR
