BEGIN:VCALENDAR
VERSION:2.0
PRODID:-//ChamberMaster//Event Calendar 2.0//EN
METHOD:PUBLISH
X-PUBLISHED-TTL:P3D
REFRESH-INTERVAL:P3D
CALSCALE:GREGORIAN
BEGIN:VEVENT
DTSTART:20191222T030000Z
DTEND:20191222T050000Z
X-MICROSOFT-CDO-ALLDAYEVENT:FALSE
SUMMARY:A Christmas Evening with Ben at Hoquiam Brewery
DESCRIPTION:Sinatra\, Buble\, and Dean Martin Christmas tunes will all be performed at Hoquiam Brewery!
X-ALT-DESC;FMTTYPE=text/html:<span style="caret-color: rgb(29\, 33\, 41)\; color: rgb(29\, 33\, 41)\; font-family: system-ui\, -apple-system\, BlinkMacSystemFont\, &quot\;.SFNSText-Regular&quot\;\, sans-serif\; font-size: 14px\; white-space: pre-wrap\;">Sinatra\, Buble\, and Dean Martin Christmas tunes will all be performed at Hoquiam Brewery!</span>
LOCATION:pin Hoquiam Brewing Co.\, Inc.\, 526 8th St
UID:e.26.12299
SEQUENCE:3
DTSTAMP:20260424T025932Z
URL:https://chamber.graysharbor.org/events/details/a-christmas-evening-with-ben-at-hoquiam-brewery-12299
END:VEVENT

END:VCALENDAR
