BEGIN:VCALENDAR
VERSION:2.0
PRODID:-//ChamberMaster//Event Calendar 2.0//EN
METHOD:PUBLISH
X-PUBLISHED-TTL:P3D
REFRESH-INTERVAL:P3D
CALSCALE:GREGORIAN
BEGIN:VEVENT
DTSTART;VALUE=DATE:20190308
DTEND;VALUE=DATE:20190311
TRANSP:TRANSPARENT
X-MICROSOFT-CDO-ALLDAYEVENT:TRUE
SUMMARY:A Funny Thing Happened on the Way to the Forum
DESCRIPTION:Performances are by a talented cast at the Bishop Center for Performing Arts at Grays Harbor College. \n\n\n\nBased in ancient Rome\, this Tony Award-winning Stephen Sondheim musical revolves around Pseudolus\, a slave scheming for freedom by playing matchmaker for her master's son. When the plan goes awry\, Pseudolus desperately attempts to keep up with her end of the bargain.\n\n\n\nIn this nonstop laugh fest\, Pseudolus\, a crafty slave\, struggles to win the hand of a beautiful\, but slow-witted\, courtesan named Philia for his young master\, Hero\, in exchange for freedom.
X-ALT-DESC;FMTTYPE=text/html:<span style="color: rgb(51\, 51\, 51)\; font-size: 14px\; caret-color: rgb(41\, 43\, 44)\; font-family: Lato\, sans-serif\; background-color: rgb(255\, 255\, 255)\;">Performances are by a talented cast at the Bishop Center for Performing Arts at Grays Harbor College.&nbsp\;<br />\n<br />\nBased in ancient Rome\, this Tony Award-winning Stephen Sondheim musical revolves around Pseudolus\, a slave scheming for freedom by playing matchmaker for her master&#39\;s son. When the plan goes awry\, Pseudolus desperately attempts to keep up with her end of the bargain.</span><br />\n<br />\n<span style="color: rgb(51\, 51\, 51)\; font-size: 14px\; caret-color: rgb(78\, 80\, 78)\; font-family: OpenSansRegular\, Arial\, Helvetica\, sans-serif\; background-color: rgb(255\, 255\, 255)\;">In this nonstop laugh fest\, Pseudolus\, a crafty slave\, struggles to win the hand of a beautiful\, but slow-witted\, courtesan named Philia for his young master\, Hero\, in exchange for freedom.</span>
LOCATION:Bishop Center for the Performing Arts 1620 Edward P. Smith Dr. Aberdeen\, WA
UID:e.26.11663
SEQUENCE:3
DTSTAMP:20260424T163820Z
URL:https://chamber.graysharbor.org/events/details/a-funny-thing-happened-on-the-way-to-the-forum-11663
END:VEVENT

END:VCALENDAR
