BEGIN:VCALENDAR
VERSION:2.0
PRODID:-//ChamberMaster//Event Calendar 2.0//EN
METHOD:PUBLISH
X-PUBLISHED-TTL:P3D
REFRESH-INTERVAL:P3D
CALSCALE:GREGORIAN
BEGIN:VEVENT
DTSTART:20190326T153000Z
DTEND:20190326T180000Z
X-MICROSOFT-CDO-ALLDAYEVENT:FALSE
SUMMARY:A Photographic Look at Westport
DESCRIPTION:Over several days\, the Roger Brooks Team photographed Westport\, from top to bottom\, and will be showing community members what they found\, what works\, what doesn't and what can be done better - as a community and as businesses.
X-ALT-DESC;FMTTYPE=text/html:Over several days\, the Roger Brooks Team photographed Westport\, from top to bottom\, and will be showing community members what they found\, what works\, what doesn&#39\;t and what can be done better - as a community and as businesses.&nbsp\;
LOCATION:McCausland Hall 2201 Westhaven Dr. Westport\, WA
UID:e.26.11864
SEQUENCE:3
DTSTAMP:20260424T163818Z
URL:https://chamber.graysharbor.org/events/details/a-photographic-look-at-westport-11864
END:VEVENT

END:VCALENDAR
