BEGIN:VCALENDAR
VERSION:2.0
PRODID:-//ChamberMaster//Event Calendar 2.0//EN
METHOD:PUBLISH
X-PUBLISHED-TTL:P3D
REFRESH-INTERVAL:P3D
CALSCALE:GREGORIAN
BEGIN:VEVENT
DTSTART;VALUE=DATE:20180112
DTEND;VALUE=DATE:20180116
TRANSP:TRANSPARENT
X-MICROSOFT-CDO-ALLDAYEVENT:TRUE
SUMMARY:A Pirates Life for Us 2018
DESCRIPTION:Pirates take over Ocean Shores offering a full weekend of pillaging and pirating.  Scavenger Hunts\, Pub crawls\, pirate swag and booty sales and a whole lot more.
X-ALT-DESC;FMTTYPE=text/html:<span style="font-family: Roboto\, sans-serif\; font-size: 14px\; background-color: rgb(252\, 247\, 228)\;">Pirates take over Ocean Shores offering a full weekend of pillaging and pirating.&nbsp\; Scavenger Hunts\, Pub crawls\, pirate swag and booty sales and a whole lot more.</span>
LOCATION:Ocean Shores
UID:e.26.9439
SEQUENCE:3
DTSTAMP:20260425T145556Z
URL:https://chamber.graysharbor.org/events/details/a-pirates-life-for-us-2018-9439
END:VEVENT

END:VCALENDAR
