BEGIN:VCALENDAR
VERSION:2.0
PRODID:-//ChamberMaster//Event Calendar 2.0//EN
METHOD:PUBLISH
X-PUBLISHED-TTL:P3D
REFRESH-INTERVAL:P3D
CALSCALE:GREGORIAN
BEGIN:VEVENT
DTSTART:20170831T013000Z
DTEND:20170831T030000Z
X-MICROSOFT-CDO-ALLDAYEVENT:FALSE
SUMMARY:A Ride in the Woods
DESCRIPTION:The City of Montesano Forestry Department will be hosting interpretive hikes and mountain bike rides on the City Forest Trails this summer. Meet by swimming beach at Lake Sylvia State Park. \n\nFor more info: City Forester LOREN HINER\, 360 249-5424. \n\n \n\nDATE Activity TIME \n\n June 14th Hike 6:30 PM Wed. \n\n \n\n June 21st Hike 9:30 AM Wed. \n\n \n\n June 28th Bike Ride 6:30 PM Wed.\n\n \n\n July 1st Hike 9:30 AM Sat.\n\n \n\n July 12th Hike 6:30 PM Wed. \n\n \n\n July 19th Hike 9:30 AM Wed. \n\n \n\n July 26th Bike Ride 6:30 PM Wed.\n\n \n\n Aug. 5th Hike 9:30 AM Sat.\n\n \n\n Aug. 6th Hike 9:30 AM Sun.\n\n \n\n Aug. 23rd Hike 6:30 PM Wed.\n\n \n\n  Aug. 30th Bike Ride 6:30 PM Wed.
X-ALT-DESC;FMTTYPE=text/html:<span style="font-size: medium\;"><span style="font-family: calibri\;">The City of Montesano Forestry Department will be hosting interpretive hikes and mountain bike rides on the City Forest Trails this summer. Meet by swimming beach at Lake Sylvia State Park. </span></span><br />\n<span style="font-size: medium\;"><span style="font-family: calibri\;">For more info: City Forester LOREN HINER\, 360 249-5424. </span></span><br />\n&nbsp\;<br />\n<span style="font-size: medium\;"><span style="font-family: calibri\;">DATE Activity TIME&nbsp\;<br />\n&bull\;June 14th Hike 6:30 PM Wed. </span></span><br />\n&nbsp\;<br />\n<span style="font-size: medium\;"><span style="font-family: calibri\;">&bull\;June 21st Hike 9:30 AM Wed. </span></span><br />\n&nbsp\;<br />\n<span style="font-size: medium\;"><span style="font-family: calibri\;">&bull\;June 28th Bike Ride 6:30 PM Wed.</span></span><br />\n&nbsp\;<br />\n<span style="font-size: medium\;"><span style="font-family: calibri\;">&bull\;July 1st Hike 9:30 AM Sat.</span></span><br />\n&nbsp\;<br />\n<span style="font-size: medium\;"><span style="font-family: calibri\;">&bull\;July 12th Hike 6:30 PM Wed. </span></span><br />\n&nbsp\;<br />\n<span style="font-size: medium\;"><span style="font-family: calibri\;">&bull\;July 19th Hike 9:30 AM Wed. </span></span><br />\n&nbsp\;<br />\n<span style="font-size: medium\;"><span style="font-family: calibri\;">&bull\;July 26th Bike Ride 6:30 PM Wed.</span></span><br />\n&nbsp\;<br />\n<span style="font-size: medium\;"><span style="font-family: calibri\;">&bull\;Aug. 5th Hike 9:30 AM Sat.</span></span><br />\n&nbsp\;<br />\n<span style="font-size: medium\;"><span style="font-family: calibri\;">&bull\;Aug. 6th Hike 9:30 AM Sun.</span></span><br />\n&nbsp\;<br />\n<span style="font-size: medium\;"><span style="font-family: calibri\;">&bull\;Aug. 23rd Hike 6:30 PM Wed.</span></span><br />\n&nbsp\;<br />\n<span style="font-size: 11pt\;"><span style="font-family: calibri\,sans-serif\;">&bull\; Aug. 30th Bike Ride 6:30 PM Wed.</span></span>
LOCATION:Lake Sylvia State Park Montesano\, WA
UID:e.26.7729
SEQUENCE:3
DTSTAMP:20260425T230310Z
URL:https://chamber.graysharbor.org/events/details/a-ride-in-the-woods-7729
END:VEVENT

END:VCALENDAR
