BEGIN:VCALENDAR
VERSION:2.0
PRODID:-//ChamberMaster//Event Calendar 2.0//EN
METHOD:PUBLISH
X-PUBLISHED-TTL:P3D
REFRESH-INTERVAL:P3D
CALSCALE:GREGORIAN
BEGIN:VEVENT
DTSTART:20191209T200000Z
DTEND:20191214T200000Z
X-MICROSOFT-CDO-ALLDAYEVENT:FALSE
SUMMARY:A Spirit of Christmas
DESCRIPTION:The North Beach Singers will present "A Spirit of Christmas" at Faith Community Church in Ocean Shores Friday\, December 13th @ 7 p.m. Saturday\, December 14th @ 3 p.m. Donations of Food or Money for the North Beach Food Bank are greatly appreciated.
X-ALT-DESC;FMTTYPE=text/html:The North Beach Singers will present &quot\;A Spirit of Christmas&quot\; at Faith Community Church in Ocean Shores Friday\, December 13th @ 7 p.m. Saturday\, December 14th @ 3 p.m. Donations of Food or Money for the North Beach Food Bank are greatly appreciated.
LOCATION:Faith Community Church\, Ocean Shores\, WA
UID:e.26.12314
SEQUENCE:3
DTSTAMP:20260424T025750Z
URL:https://chamber.graysharbor.org/events/details/a-spirit-of-christmas-12314
END:VEVENT

END:VCALENDAR
