BEGIN:VCALENDAR
VERSION:2.0
PRODID:-//ChamberMaster//Event Calendar 2.0//EN
METHOD:PUBLISH
X-PUBLISHED-TTL:P3D
REFRESH-INTERVAL:P3D
CALSCALE:GREGORIAN
BEGIN:VEVENT
DTSTART:20130220T023000Z
DTEND:20130220T033000Z
X-MICROSOFT-CDO-ALLDAYEVENT:FALSE
SUMMARY:A Tribute to Patsy Cline
DESCRIPTION:Elizabeth Stierle will present her tribute to celebrated American country pop music singer Patsy Cline as we near the 50th anniversay of Cline's death. Elizabeth is joined on stage by her husband Paul of "Buck and Elizabeth" fame.
X-ALT-DESC;FMTTYPE=text/html:<p>\n	Elizabeth Stierle will present her tribute to celebrated American country pop music singer Patsy Cline as we near the 50th anniversay of Cline&#39\;s death. Elizabeth is joined on stage by her husband Paul of&nbsp\;&quot\;Buck and Elizabeth&quot\; fame.</p>\n
LOCATION:Aberdeen Timberland Library
UID:e.26.2527
SEQUENCE:3
DTSTAMP:20260420T042754Z
URL:https://chamber.graysharbor.org/events/details/a-tribute-to-patsy-cline-02-19-2013-2527
END:VEVENT

END:VCALENDAR
