BEGIN:VCALENDAR
VERSION:2.0
PRODID:-//ChamberMaster//Event Calendar 2.0//EN
METHOD:PUBLISH
X-PUBLISHED-TTL:P3D
REFRESH-INTERVAL:P3D
CALSCALE:GREGORIAN
BEGIN:VEVENT
DTSTART;VALUE=DATE:20121103
DTEND;VALUE=DATE:20121104
TRANSP:TRANSPARENT
X-MICROSOFT-CDO-ALLDAYEVENT:TRUE
SUMMARY:A Year With Frog and Toad
DESCRIPTION:"A Year With Frog and Toad" remains true to the spirit of the original childhood stories by Arnold Lobel\, following two great friends\, the cheerful and popular Frog and the rather grumpy Toad through four fun-filled seasons. Families will enjoy their journey and along the way\, they learn lifelong lessons of friendship and embracing attributes that make each one special. Waking from hibernation in the spring\, they proceed to plant gardens\, swim\, rake leaves and go sledding.
X-ALT-DESC;FMTTYPE=text/html:&quot\;A Year With Frog and Toad&quot\; remains true to the spirit of the original childhood stories by Arnold Lobel\, following two great friends\, the cheerful and popular Frog and the rather grumpy Toad through four fun-filled seasons. Families will enjoy their journey and along the way\, they learn lifelong lessons of friendship and embracing attributes that make each one special. Waking from hibernation in the spring\, they proceed to plant gardens\,&nbsp\;swim\, rake leaves and go sledding.&nbsp\;
LOCATION:Bishop Center for Performing Arts Grays Harbor College\, 1620 Edward Smith Dr.\, Aberdeen\, WA 98520
UID:e.26.2294
SEQUENCE:3
DTSTAMP:20260425T163750Z
URL:https://chamber.graysharbor.org/events/details/a-year-with-frog-and-toad-11-03-2012-2294
END:VEVENT

END:VCALENDAR
