BEGIN:VCALENDAR
VERSION:2.0
PRODID:-//ChamberMaster//Event Calendar 2.0//EN
METHOD:PUBLISH
X-PUBLISHED-TTL:P3D
REFRESH-INTERVAL:P3D
CALSCALE:GREGORIAN
BEGIN:VEVENT
DTSTART:20180924T020000Z
DTEND:20180924T050000Z
X-MICROSOFT-CDO-ALLDAYEVENT:FALSE
SUMMARY:Aaron Neville at the D&R Theatre
DESCRIPTION:Aaron Neville is an American R&B and soul singer and musician. He has had four Platinum-certified albums and four Top 10 hits in the United States\, including three that went to #1 on Billboard's Adult Contemporary chart.
X-ALT-DESC;FMTTYPE=text/html:<span style="color: rgb(29\, 33\, 41)\; font-family: Helvetica\, Arial\, sans-serif\; font-size: 14px\; background-color: rgb(255\, 255\, 255)\;">Aaron Neville is an American R&amp\;B and soul singer and musician. He has had four Platinum-certified albums and four Top 10 hits in the United States\, including three that went to #1 on Billboard&#39\;s Adult Contemporary chart.</span>
LOCATION:D&R Theatre Aberdeen\, WA
UID:e.26.11161
SEQUENCE:3
DTSTAMP:20260425T015856Z
URL:https://chamber.graysharbor.org/events/details/aaron-neville-at-the-d-r-theatre-11161
END:VEVENT

END:VCALENDAR
