BEGIN:VCALENDAR
VERSION:2.0
PRODID:-//ChamberMaster//Event Calendar 2.0//EN
METHOD:PUBLISH
X-PUBLISHED-TTL:P3D
REFRESH-INTERVAL:P3D
CALSCALE:GREGORIAN
BEGIN:VEVENT
DTSTART:20180804T200000Z
DTEND:20180805T040000Z
X-MICROSOFT-CDO-ALLDAYEVENT:FALSE
SUMMARY:Aberdeen All Class Reunion
DESCRIPTION:A celebration of 110 years of Weatherwax High School. This is a fund raiser for the rebuilding of the Aberdeen Museum. Entry buttons are $15. This is open to the public not just alumni. A day of music\, seeing old friends\, memories and fun. Visit our website to see all that is happening\, check out what bands are playing as well as interesting history of Weatherwax High School. Our Website is: aberdeenallclassreunion.com
X-ALT-DESC;FMTTYPE=text/html:A celebration of 110 years of Weatherwax High School. This is a fund raiser for the rebuilding of the Aberdeen Museum. Entry buttons are $15. This is open to the public not just alumni. A day of music\, seeing old friends\, memories and fun. Visit our website to see all that is happening\, check out what bands are playing as well as interesting history of Weatherwax High School. Our Website is: aberdeenallclassreunion.com
LOCATION:Site of the old Weatherwax High School on 3rd Street and surrounding streets.
UID:e.26.10610
SEQUENCE:3
DTSTAMP:20260425T032841Z
URL:https://chamber.graysharbor.org/events/details/aberdeen-all-class-reunion-10610
END:VEVENT

END:VCALENDAR
