BEGIN:VCALENDAR
VERSION:2.0
PRODID:-//ChamberMaster//Event Calendar 2.0//EN
METHOD:PUBLISH
X-PUBLISHED-TTL:P3D
REFRESH-INTERVAL:P3D
CALSCALE:GREGORIAN
BEGIN:VEVENT
DTSTART:20200130T200000Z
DTEND:20200130T210000Z
X-MICROSOFT-CDO-ALLDAYEVENT:FALSE
SUMMARY:Aberdeen Art and Music Community Meeting
DESCRIPTION:We normally meet on 4th Thursdays at noon (except when on it lands on or near a Holiday- when in doubt contact us) to work towards gaining state certification of our Creative District by the Arts Commission. Everyone is welcomed. Meetings are in the Aberdeen Arts Center.\n\n\n\nTo get on our mailing & activities list you can email our coordinator Doreen Traylor at: doreenmicheletraylor@gmail.com\n\n\n\nWebsite: http://www.aberdeenartandmusic.com/p/connect.html
X-ALT-DESC;FMTTYPE=text/html:<span style="caret-color: rgb(29\, 33\, 41)\; color: rgb(29\, 33\, 41)\; font-family: system-ui\, -apple-system\, BlinkMacSystemFont\, &quot\;.SFNSText-Regular&quot\;\, sans-serif\; font-size: 14px\; white-space: pre-wrap\;">We normally meet on 4th Thursdays at noon (except when on it lands on or near a Holiday- when in doubt contact us) to work towards gaining state certification of our Creative District by the Arts Commission. Everyone is welcomed. Meetings are in the Aberdeen Arts Center.</span><br style="caret-color: rgb(29\, 33\, 41)\; color: rgb(29\, 33\, 41)\; font-family: system-ui\, -apple-system\, BlinkMacSystemFont\, &quot\;.SFNSText-Regular&quot\;\, sans-serif\; font-size: 14px\; white-space: pre-wrap\;" />\n<br style="caret-color: rgb(29\, 33\, 41)\; color: rgb(29\, 33\, 41)\; font-family: system-ui\, -apple-system\, BlinkMacSystemFont\, &quot\;.SFNSText-Regular&quot\;\, sans-serif\; font-size: 14px\; white-space: pre-wrap\;" />\n<span style="caret-color: rgb(29\, 33\, 41)\; color: rgb(29\, 33\, 41)\; font-family: system-ui\, -apple-system\, BlinkMacSystemFont\, &quot\;.SFNSText-Regular&quot\;\, sans-serif\; font-size: 14px\; white-space: pre-wrap\;">To get on our mailing &amp\; activities list you can email our coordinator Doreen Traylor at: doreenmicheletraylor@gmail.com</span><br style="caret-color: rgb(29\, 33\, 41)\; color: rgb(29\, 33\, 41)\; font-family: system-ui\, -apple-system\, BlinkMacSystemFont\, &quot\;.SFNSText-Regular&quot\;\, sans-serif\; font-size: 14px\; white-space: pre-wrap\;" />\n<br style="caret-color: rgb(29\, 33\, 41)\; color: rgb(29\, 33\, 41)\; font-family: system-ui\, -apple-system\, BlinkMacSystemFont\, &quot\;.SFNSText-Regular&quot\;\, sans-serif\; font-size: 14px\; white-space: pre-wrap\;" />\n<span style="caret-color: rgb(29\, 33\, 41)\; color: rgb(29\, 33\, 41)\; font-family: system-ui\, -apple-system\, BlinkMacSystemFont\, &quot\;.SFNSText-Regular&quot\;\, sans-serif\; font-size: 14px\; white-space: pre-wrap\;">Website: </span><a data-lynx-mode="hover" data-lynx-uri="https://l.facebook.com/l.php?u=http%3A%2F%2Fwww.aberdeenartandmusic.com%2Fp%2Fconnect.html%3Ffbclid%3DIwAR2oXiQPzu7IrlirgsfHpscDXscfNytsyRvXHhcf6yAGkB_aLBnyUcmYcCM&amp\;h=AT1lQ6nbPEKVcPZ8LzuwW6sa6Tw219PpH43isjIKkEXJDz47A7FazR_M62EvpJJDU6aW6tg6CWQpBoqqK88z8W3hFMS9HPI-iULF8C2sTkoUjtrdHvR0C21Gt5I91LiBw_Cq6q-3aQ" href="http://www.aberdeenartandmusic.com/p/connect.html?fbclid=IwAR2oXiQPzu7IrlirgsfHpscDXscfNytsyRvXHhcf6yAGkB_aLBnyUcmYcCM" rel="nofollow noopener" style="color: rgb(56\, 88\, 152)\; cursor: pointer\; text-decoration: none\; font-family: system-ui\, -apple-system\, BlinkMacSystemFont\, &quot\;.SFNSText-Regular&quot\;\, sans-serif\; font-size: 14px\; white-space: pre-wrap\;" target="_blank">http://www.aberdeenartandmusic.com/p/connect.html</a>
LOCATION:200 W Market St\, Aberdeen\, WA 98520-6219\, United States
UID:e.26.12334
SEQUENCE:3
DTSTAMP:20260424T042306Z
URL:https://chamber.graysharbor.org/events/details/aberdeen-art-and-music-community-meeting-12334
END:VEVENT

END:VCALENDAR
