BEGIN:VCALENDAR
VERSION:2.0
PRODID:-//ChamberMaster//Event Calendar 2.0//EN
METHOD:PUBLISH
X-PUBLISHED-TTL:P3D
REFRESH-INTERVAL:P3D
CALSCALE:GREGORIAN
BEGIN:VEVENT
DTSTART:20190824T170000Z
DTEND:20190825T000000Z
X-MICROSOFT-CDO-ALLDAYEVENT:FALSE
SUMMARY:Aberdeen Art Walk
DESCRIPTION:This year's Aberdeen Art Walk date is August 24th\, mark your calendars! Experience this exciting event through the historic streets of downtown Aberdeen and indulge in street food\, purchase local works of art\, patronize the many downtown businesses and stop by other vendors along the way. A great event for all ages!
X-ALT-DESC;FMTTYPE=text/html:<span style="caret-color: rgb(29\, 33\, 41)\; color: rgb(29\, 33\, 41)\; font-family: Arial\, sans-serif\; font-size: 14px\; white-space: pre-wrap\;">This year&#39\;s Aberdeen Art Walk date is August 24th\, mark your calendars! Experience this exciting event through the historic streets of downtown Aberdeen and indulge in street food\, purchase local works of art\, patronize the many downtown businesses and stop by other vendors along the way. A great event for all ages!</span>
LOCATION:Donwtown Aberdeen
UID:e.26.11948
SEQUENCE:3
DTSTAMP:20260424T090056Z
URL:https://chamber.graysharbor.org/events/details/aberdeen-art-walk-11948
END:VEVENT

END:VCALENDAR
