BEGIN:VCALENDAR
VERSION:2.0
PRODID:-//ChamberMaster//Event Calendar 2.0//EN
METHOD:PUBLISH
X-PUBLISHED-TTL:P3D
REFRESH-INTERVAL:P3D
CALSCALE:GREGORIAN
BEGIN:VEVENT
DTSTART:20170722T170000Z
DTEND:20170723T000000Z
X-MICROSOFT-CDO-ALLDAYEVENT:FALSE
SUMMARY:Aberdeen Art Walk
DESCRIPTION:Artist and vendors come from all over Western Washington to attend this event. This event gets the support of our local Art Guilds like Ocean Shores Art Guild and Harbor Art Guild. This fun event rocks the streets of Aberdeen with over 100 artists and vendors displaying their work\, street entertainment\, kid's activities\, and live music at the food court with multiple yummy food vendors\, and more!\n\nSaturday from 10 to 5\, this popular event will include talented artists and craft persons set up throughout Central Historical Downtown Aberdeen. You will see them on the streets and sidewalks surrounding the downtown core.  Live entertainment on the main stage begins 10 A.M. at the food court area which will include performances by several local talents.\n\nFor 2017 we are expanding our popular Kid's Corner located on I St to include even more activities for talented youngsters.\n\nLet's not forget about the Art Attack Fun Run on July 23rd at the Bishop Athletic Center. This Fun Run is put on by Tawni Andrews and sponsored by Grays Harbor Search and Rescue. Show up by 8:30 A.M. to registered and race starts at 9 A.M.. Registration fees are $15 and go to support Grays Harbor Search and Rescue.\n\nThis is a family friendly event\, so grab the kids\, grandkids\, and the neighbors and head to Historic Downtown Aberdeen for a day full of entertaining fun!\n\nAre you an Artist or Vendor that would like to attend this event? Please navigate this site to get more details and download an application. Vendor Early Bird registration is extended to May 25th.\n\n\n\nFB: https://www.facebook.com/events/2261138267445693/?acontext={%22ref%22%3A%2244%22%2C%22unit_ref%22%3A%22suggested_events%22%2C%22action_history%22%3A%22[{\\%22surface\\%22%3A\\%22permalink\\%22%2C\\%22mechanism\\%22%3A\\%22RHC\\%22%2C\\%22extra_data\\%22%3A[]}]%22}
X-ALT-DESC;FMTTYPE=text/html:<p><span style="color: rgb(255\, 153\, 0)\;"><strong>A</strong></span>rtist and vendors come from all over Western Washington to attend this event. This event gets the support of our local Art Guilds like Ocean Shores Art Guild and Harbor Art Guild. This fun event rocks the streets of Aberdeen with over 100 artists and vendors displaying their work\, street entertainment\, kid&rsquo\;s activities\, and live music at the food court with multiple yummy food vendors\, and more!</p>\n\n<p><span style="color: rgb(255\, 153\, 0)\;"><strong>S</strong></span>aturday from 10 to 5\, this popular event will include talented artists and craft persons set up throughout Central Historical Downtown Aberdeen. You will see them on the streets and sidewalks surrounding the downtown core.&nbsp\; Live entertainment on the main stage begins 10 A.M. at the food court area which will include performances by several local talents.</p>\n\n<p><span style="color: rgb(255\, 153\, 0)\;"><strong>F</strong></span>or 2017 we are expanding our popular Kid&rsquo\;s Corner located on I St to include even more activities for talented youngsters.</p>\n\n<p><span style="color: rgb(255\, 153\, 0)\;"><strong>L</strong></span>et&rsquo\;s not forget about the Art Attack Fun Run on July 23<sup><font size="2">rd</font></sup> at the Bishop Athletic Center. This Fun Run is put on by Tawni Andrews and sponsored by Grays Harbor Search and Rescue. Show up by 8:30 A.M. to registered and race starts at 9 A.M.. Registration fees are $15 and go to support Grays Harbor Search and Rescue.</p>\n\n<p><span style="color: rgb(255\, 153\, 0)\;"><strong>T</strong></span>his is a family friendly event\, so grab the kids\, grandkids\, and the neighbors and head to Historic Downtown Aberdeen for a day full of entertaining fun!</p>\n\n<p><span style="color: rgb(255\, 153\, 0)\;"><strong>A</strong></span>re you an Artist or Vendor that would like to attend this event? Please navigate this site to get more details and download an application. Vendor Early Bird registration is extended to May 25<sup><font size="2">th</font></sup>.<br />\n<br />\nFB: https://www.facebook.com/events/2261138267445693/?acontext={%22ref%22%3A%2244%22%2C%22unit_ref%22%3A%22suggested_events%22%2C%22action_history%22%3A%22[{\\%22surface\\%22%3A\\%22permalink\\%22%2C\\%22mechanism\\%22%3A\\%22RHC\\%22%2C\\%22extra_data\\%22%3A[]}]%22}</p>\n
LOCATION:Downtown Aberdeen
UID:e.26.7592
SEQUENCE:3
DTSTAMP:20260426T003003Z
URL:https://chamber.graysharbor.org/events/details/aberdeen-art-walk-7592
END:VEVENT

END:VCALENDAR
