BEGIN:VCALENDAR
VERSION:2.0
PRODID:-//ChamberMaster//Event Calendar 2.0//EN
METHOD:PUBLISH
X-PUBLISHED-TTL:P3D
REFRESH-INTERVAL:P3D
CALSCALE:GREGORIAN
BEGIN:VEVENT
DTSTART:20190127T010000Z
DTEND:20190127T050000Z
X-MICROSOFT-CDO-ALLDAYEVENT:FALSE
SUMMARY:Aberdeen Bobcat Music Boosters 30th Annual Dinner & Auction
DESCRIPTION:Aberdeen Bobcat Music Boosters 30th Annual Fundraising Auction!\n\nDinner with Taco/Nacho/Baked potato bar $10/person or $30 for a family of 4. Desserts and beverages available for purchase for $1. We will accept dessert donations for this purpose at the auction or anytime the day of.\n\nLots of great Auction items to bid on! Silent and live auctions. Please post here if you have any auction items donate. \n\nFree entertainment from the jazz bands and choir!
X-ALT-DESC;FMTTYPE=text/html:<span style="caret-color: rgb(29\, 33\, 41)\; color: rgb(29\, 33\, 41)\; font-family: system-ui\, -apple-system\, BlinkMacSystemFont\, &quot\;.SFNSText-Regular&quot\;\, sans-serif\; font-size: 14px\; white-space: pre-wrap\; background-color: rgb(255\, 255\, 255)\;">Aberdeen Bobcat Music Boosters 30th Annual Fundraising Auction!</span><br style="caret-color: rgb(29\, 33\, 41)\; color: rgb(29\, 33\, 41)\; font-family: system-ui\, -apple-system\, BlinkMacSystemFont\, &quot\;.SFNSText-Regular&quot\;\, sans-serif\; font-size: 14px\; white-space: pre-wrap\;" />\n<span style="caret-color: rgb(29\, 33\, 41)\; color: rgb(29\, 33\, 41)\; font-family: system-ui\, -apple-system\, BlinkMacSystemFont\, &quot\;.SFNSText-Regular&quot\;\, sans-serif\; font-size: 14px\; white-space: pre-wrap\; background-color: rgb(255\, 255\, 255)\;">Dinner with Taco/Nacho/Baked potato bar $10/person or $30 for a family of 4. Desserts and beverages available for purchase for $1. We will accept dessert donations for this purpose at the auction or anytime the day of.</span><br style="caret-color: rgb(29\, 33\, 41)\; color: rgb(29\, 33\, 41)\; font-family: system-ui\, -apple-system\, BlinkMacSystemFont\, &quot\;.SFNSText-Regular&quot\;\, sans-serif\; font-size: 14px\; white-space: pre-wrap\;" />\n<span style="caret-color: rgb(29\, 33\, 41)\; color: rgb(29\, 33\, 41)\; font-family: system-ui\, -apple-system\, BlinkMacSystemFont\, &quot\;.SFNSText-Regular&quot\;\, sans-serif\; font-size: 14px\; white-space: pre-wrap\; background-color: rgb(255\, 255\, 255)\;">Lots of great Auction items to bid on! Silent and live auctions. Please post here if you have any auction items donate. </span><br style="caret-color: rgb(29\, 33\, 41)\; color: rgb(29\, 33\, 41)\; font-family: system-ui\, -apple-system\, BlinkMacSystemFont\, &quot\;.SFNSText-Regular&quot\;\, sans-serif\; font-size: 14px\; white-space: pre-wrap\;" />\n<span style="caret-color: rgb(29\, 33\, 41)\; color: rgb(29\, 33\, 41)\; font-family: system-ui\, -apple-system\, BlinkMacSystemFont\, &quot\;.SFNSText-Regular&quot\;\, sans-serif\; font-size: 14px\; white-space: pre-wrap\; background-color: rgb(255\, 255\, 255)\;">Free entertainment from the jazz bands and choir!</span>
LOCATION:Aberdeen High School 410 N G St. Aberdeen\, WA
UID:e.26.11711
SEQUENCE:3
DTSTAMP:20260424T194555Z
URL:https://chamber.graysharbor.org/events/details/aberdeen-bobcat-music-boosters-30th-annual-dinner-auction-11711
END:VEVENT

END:VCALENDAR
