BEGIN:VCALENDAR
VERSION:2.0
PRODID:-//ChamberMaster//Event Calendar 2.0//EN
METHOD:PUBLISH
X-PUBLISHED-TTL:P3D
REFRESH-INTERVAL:P3D
CALSCALE:GREGORIAN
BEGIN:VEVENT
DTSTART:20190629T180000Z
DTEND:20190629T190000Z
X-MICROSOFT-CDO-ALLDAYEVENT:FALSE
SUMMARY:Aberdeen Founder's Day Parade
DESCRIPTION:The City of Aberdeen\, WA was founded by Mr. Samuel Benn on May 28\, 1868 when Sam and his family landed on the banks of the Lower Chehalis. Mr. Benn's birthday\, July 2nd\, is our official Founders' Day. Join us the Saturday prior to Independence Day each year to celebrate our City and its rich history full of logging\, fishing\, saloons\, brothels\, crime\, mystery\, culture and much\, much more.\n\nThe 6th Annual Aberdeen Founders' Day Parade and Events is a full day of fun family time! The parade launches at 11am. \n\nAfter the parade we will have a street fair with vendors from our area and abroad\, music\, food\, fun activities\, prizes\, and more!\n\n\n\nParade applications: https://www.aberdeenfoundersday.us/parade-application/?fbclid=IwAR19cnZxYk_5uqjiWmlPJP4RCCmVMtmDWeEBrMA5P5rD-b-ChJ5c4U37qCs
X-ALT-DESC;FMTTYPE=text/html:<span style="font-size:14px\;"><span style="caret-color: rgb(0\, 0\, 0)\; color: rgb(0\, 0\, 0)\;">The City of Aberdeen\, WA was founded by Mr. Samuel Benn on May 28\, 1868 when Sam and his family landed on the banks of the Lower Chehalis. Mr. Benn&rsquo\;s birthday\, July 2nd\, is our official Founders&rsquo\; Day. Join us the Saturday prior to Independence Day each year to celebrate our City and its rich history full of logging\, fishing\, saloons\, brothels\, crime\, mystery\, culture and much\, much more.</span><br />\n<span style="caret-color: rgb(34\, 34\, 34)\; color: rgb(34\, 34\, 34)\; font-family: Verdana\, Geneva\, sans-serif\;">The 6th Annual Aberdeen Founders&rsquo\; Day Parade and Events is a full day of fun family time! The parade launches at 11am.&nbsp\;</span></span><br />\n<span style="color: rgb(0\, 0\, 0)\; caret-color: rgb(122\, 122\, 122)\; font-family: Roboto\, sans-serif\; font-size: large\;"><span style="font-size:14px\;">After the parade we will have a street fair with vendors from our area and abroad\, music\, food\, fun activities\, prizes\, and more!</span></span><br />\n<br />\n<span style="font-size:14px\;">Parade applications:&nbsp\;https://www.aberdeenfoundersday.us/parade-application/?fbclid=IwAR19cnZxYk_5uqjiWmlPJP4RCCmVMtmDWeEBrMA5P5rD-b-ChJ5c4U37qCs</span>
LOCATION:Downtown Aberdeen
UID:e.26.12012
SEQUENCE:3
DTSTAMP:20260424T115930Z
URL:https://chamber.graysharbor.org/events/details/aberdeen-founder-s-day-parade-12012
END:VEVENT

END:VCALENDAR
