BEGIN:VCALENDAR
VERSION:2.0
PRODID:-//ChamberMaster//Event Calendar 2.0//EN
METHOD:PUBLISH
X-PUBLISHED-TTL:P3D
REFRESH-INTERVAL:P3D
CALSCALE:GREGORIAN
BEGIN:VEVENT
DTSTART:20170701T010000Z
DTEND:20170701T040000Z
X-MICROSOFT-CDO-ALLDAYEVENT:FALSE
SUMMARY:Aberdeen Founders' Dinner
DESCRIPTION:Murder Mystery Dinner Theater "A Felonious Founders' Day" The Aberdeen Founder's Day Parade of 1947 had come to a successful end when Mayor Hopkins suddenly drops dead on the reviewing stand. It wasn't a natural death. It was murder!\n\n\n\nWhat does a red- white and blue Bow Tie\, Cheerleading pompoms and a chimney sweep have in common?\n\nCome and find out while you delight your sences in an evening of entertainment.\n\nTickets go on sale Monday May 29\, 2017\n\n**New and improved sound system**\n\n\n\nProceeds help fund the Aberdeen Founders' Day.\n\n\n\nhttps://www.facebook.com/events/222103764959577/?acontext=%7B%22ref%22%3A%223%22%2C%22ref_newsfeed_story_type%22%3A%22regular%22%2C%22feed_story_type%22%3A%22308%22%2C%22action_history%22%3A%22null%22%7D
X-ALT-DESC;FMTTYPE=text/html:Murder Mystery Dinner Theater &quot\;A Felonious Founders&#39\; Day&quot\; The Aberdeen Founder&rsquo\;s Day Parade of 1947 had come to a successful end when Mayor Hopkins suddenly drops dead on the reviewing stand. It wasn&rsquo\;t a natural death. It was murder!<br />\n<br />\n<span class="_4n-j _3cht fsl" data-testid="event-permalink-details">What does a red- white and blue Bow Tie\, Cheerleading pompoms and a chimney sweep have in common?<br />\nCome and find out while you delight your sences in an evening of entertainment.<br />\nTickets go on sale Monday May 29\, 2017<br />\n**New and improved sound system**<br />\n<br />\nProceeds help fund the Aberdeen Founders&#39\; Day.</span><br />\n<br />\n<a href="https://www.facebook.com/events/222103764959577/?acontext=%7B%22ref%22%3A%223%22%2C%22ref_newsfeed_story_type%22%3A%22regular%22%2C%22feed_story_type%22%3A%22308%22%2C%22action_history%22%3A%22null%22%7D">https://www.facebook.com/events/222103764959577/?acontext=%7B%22ref%22%3A%223%22%2C%22ref_newsfeed_story_type%22%3A%22regular%22%2C%22feed_story_type%22%3A%22308%22%2C%22action_history%22%3A%22null%22%7D</a>
LOCATION:Aberdeen Museum of History 111 East Third Street Aberdeen\, WA 98520
UID:e.26.7664
SEQUENCE:3
DTSTAMP:20260426T015203Z
URL:https://chamber.graysharbor.org/events/details/aberdeen-founders-dinner-7664
END:VEVENT

END:VCALENDAR
