BEGIN:VCALENDAR
VERSION:2.0
PRODID:-//ChamberMaster//Event Calendar 2.0//EN
METHOD:PUBLISH
X-PUBLISHED-TTL:P3D
REFRESH-INTERVAL:P3D
CALSCALE:GREGORIAN
BEGIN:VEVENT
DTSTART:20180127T210000Z
DTEND:20180127T233000Z
X-MICROSOFT-CDO-ALLDAYEVENT:FALSE
SUMMARY:Aberdeen Historical Walking Tour
DESCRIPTION:Meet your knowledgeable tour guide at the Aberdeen Museum of History and make your way to the historic downtown streets of Aberdeen. Be sure to bring your walking shoes and be prepared to take a step back in time!
X-ALT-DESC;FMTTYPE=text/html:<span style="color: rgb(75\, 79\, 86)\; font-family: Helvetica\, Arial\, sans-serif\; font-size: 14px\; background-color: rgb(255\, 255\, 255)\;">Meet your knowledgeable tour guide at the Aberdeen Museum of History and make your way to the historic downtown streets of Aberdeen. Be sure to bring your walking shoes and be prepared to take a step back in time!&nbsp\;</span>
LOCATION:Meet at Aberdeen Museum of History 111 3rd St. Aberdeen
UID:e.26.9410
SEQUENCE:3
DTSTAMP:20260425T145633Z
URL:https://chamber.graysharbor.org/events/details/aberdeen-historical-walking-tour-9410
END:VEVENT

END:VCALENDAR
