BEGIN:VCALENDAR
VERSION:2.0
PRODID:-//ChamberMaster//Event Calendar 2.0//EN
METHOD:PUBLISH
X-PUBLISHED-TTL:P3D
REFRESH-INTERVAL:P3D
CALSCALE:GREGORIAN
BEGIN:VEVENT
DTSTART:20190428T230000Z
DTEND:20190429T010000Z
X-MICROSOFT-CDO-ALLDAYEVENT:FALSE
SUMMARY:Aberdeen/Hoquiam/Montesano Young Life Entertainment Night!
DESCRIPTION:Join us for some fun entertainment\, food and an auction for our local Young Life\, WyldLife and YoungLives Students to go to camp this summer!
X-ALT-DESC;FMTTYPE=text/html:<span style="caret-color: rgb(29\, 33\, 41)\; color: rgb(29\, 33\, 41)\; font-family: system-ui\, -apple-system\, BlinkMacSystemFont\, &quot\;.SFNSText-Regular&quot\;\, sans-serif\; font-size: 14px\; white-space: pre-wrap\;">Join us for some fun entertainment\, food and an auction for our local Young Life\, WyldLife and YoungLives Students to go to camp this summer! </span>
LOCATION:pin Grays Harbor Foursquare Church 4800 Central Park Dr\, Aberdeen\, Washington 98520
UID:e.26.11893
SEQUENCE:3
DTSTAMP:20260424T151554Z
URL:https://chamber.graysharbor.org/events/details/aberdeen-hoquiam-montesano-young-life-entertainment-night-11893
END:VEVENT

END:VCALENDAR
