BEGIN:VCALENDAR
VERSION:2.0
PRODID:-//ChamberMaster//Event Calendar 2.0//EN
METHOD:PUBLISH
X-PUBLISHED-TTL:P3D
REFRESH-INTERVAL:P3D
CALSCALE:GREGORIAN
BEGIN:VEVENT
DTSTART:20190810T200000Z
DTEND:20190811T020000Z
X-MICROSOFT-CDO-ALLDAYEVENT:FALSE
SUMMARY:Aberdeen-Hoquiam Street Dance
DESCRIPTION:Co-hosted by The Friends of The Aberdeen Museum and the Polson Museum\, the dance will include music from two bands.\n\nFrom 1 to 4 it is Stan The Man and the Harbor All Stars featuring Stan Foreman\, Dave Reed\, Bruce Hughes and Maitland Ward. They will be playing music from the 60s and 70s. From 4 to 7 we will have 8 Second Ride from Tacoma. They will be playing country western music. \n\n\n\nBring a chair\, sit back and enjoy the music or enjoy cutting a rug (or in this case pavement). When you need a break there will be food vendors\, a beer garden\, and friends to greet\, as well as new folks to meet. \n\nThe gathering was inspired by the Hoquiam and Aberdeen communities. We want to celebrate the caring and the support they have shown to each other recently. We hope to have a fun and relaxing day where we can build further support and communication. We want citizens and community leaders to know they are appreciated and their kindness has not gone unnoticed.\n\nFor the event we have permission to close Myrtle street between Sumner and Cherry\, as well as part of Cherry Street and we have the use of the PUD parking lot. We picked this block of Myrtle as a remembrance of Electric Park. It was a place where communities came together sharing a ballfield and electric production. We will have a display highlighting the facility to remind attendees of the meaning of the location.
X-ALT-DESC;FMTTYPE=text/html:<span style="caret-color: rgb(29\, 33\, 41)\; color: rgb(29\, 33\, 41)\; font-family: system-ui\, -apple-system\, BlinkMacSystemFont\, &quot\;.SFNSText-Regular&quot\;\, sans-serif\; font-size: 14px\; white-space: pre-wrap\;">Co-hosted by The Friends of The Aberdeen Museum and the Polson Museum\, the dance will include music from two bands.<br />\nFrom 1 to 4 it is Stan The Man and the Harbor All Stars featuring Stan Foreman\, Dave Reed\, Bruce Hughes and Maitland Ward. They will be playing music from the 60s and 70s. From 4 to 7 we will have 8 Second Ride from Tacoma. They will be playing country western music. </span><br style="caret-color: rgb(29\, 33\, 41)\; color: rgb(29\, 33\, 41)\; font-family: system-ui\, -apple-system\, BlinkMacSystemFont\, &quot\;.SFNSText-Regular&quot\;\, sans-serif\; font-size: 14px\; white-space: pre-wrap\;" />\n<br style="caret-color: rgb(29\, 33\, 41)\; color: rgb(29\, 33\, 41)\; font-family: system-ui\, -apple-system\, BlinkMacSystemFont\, &quot\;.SFNSText-Regular&quot\;\, sans-serif\; font-size: 14px\; white-space: pre-wrap\;" />\n<span style="caret-color: rgb(29\, 33\, 41)\; color: rgb(29\, 33\, 41)\; font-family: system-ui\, -apple-system\, BlinkMacSystemFont\, &quot\;.SFNSText-Regular&quot\;\, sans-serif\; font-size: 14px\; white-space: pre-wrap\;">Bring a chair\, sit back and enjoy the music or enjoy cutting a rug (or in this case pavement). When you need a break there will be food vendors\, a beer garden\, and friends to greet\, as well as new folks to meet. </span><br style="caret-color: rgb(29\, 33\, 41)\; color: rgb(29\, 33\, 41)\; font-family: system-ui\, -apple-system\, BlinkMacSystemFont\, &quot\;.SFNSText-Regular&quot\;\, sans-serif\; font-size: 14px\; white-space: pre-wrap\;" />\n<span style="caret-color: rgb(29\, 33\, 41)\; color: rgb(29\, 33\, 41)\; font-family: system-ui\, -apple-system\, BlinkMacSystemFont\, &quot\;.SFNSText-Regular&quot\;\, sans-serif\; font-size: 14px\; white-space: pre-wrap\;">The gathering was inspired by the Hoquiam and Aberdeen communities. We want to celebrate the caring and the support they have shown to each other recently. We hope to have a fun and relaxing day where we can build further support and communication. We want citizens and community leaders to know they are appreciated and their kindness has not gone unnoticed.</span><br style="caret-color: rgb(29\, 33\, 41)\; color: rgb(29\, 33\, 41)\; font-family: system-ui\, -apple-system\, BlinkMacSystemFont\, &quot\;.SFNSText-Regular&quot\;\, sans-serif\; font-size: 14px\; white-space: pre-wrap\;" />\n<span style="caret-color: rgb(29\, 33\, 41)\; color: rgb(29\, 33\, 41)\; font-family: system-ui\, -apple-system\, BlinkMacSystemFont\, &quot\;.SFNSText-Regular&quot\;\, sans-serif\; font-size: 14px\; white-space: pre-wrap\;">For the event we have permission to close Myrtle street between Sumner and Cherry\, as well as part of Cherry Street and we have the use of the PUD parking lot. We picked this block of Myrtle as a remembrance of Electric Park. It was a place where communities came together sharing a ballfield and electric production. We will have a display highlighting the facility to remind attendees of the meaning of the location.</span>
LOCATION:Myrtle Street - PUD parking lot. Between Sumner and Cherry Streets.
UID:e.26.12043
SEQUENCE:3
DTSTAMP:20260424T104347Z
URL:https://chamber.graysharbor.org/events/details/aberdeen-hoquiam-street-dance-12043
END:VEVENT

END:VCALENDAR
