BEGIN:VCALENDAR
VERSION:2.0
PRODID:-//ChamberMaster//Event Calendar 2.0//EN
METHOD:PUBLISH
X-PUBLISHED-TTL:P3D
REFRESH-INTERVAL:P3D
CALSCALE:GREGORIAN
BEGIN:VEVENT
DTSTART:20200114T013000Z
DTEND:20200114T043000Z
X-MICROSOFT-CDO-ALLDAYEVENT:FALSE
SUMMARY:Aberdeen Lions Club Benefit Dinner for Family Promise
DESCRIPTION:The Aberdeen Lions Club will be hosting a dinner to benefit Family Promise of Grays Harbor. The dinner will take place on January 13th at 5:30 PM. It will be held in the parish hall of Amazing Grace Lutheran Church\, located in Aberdeen (111 East 4th Street). There also will be items to bid on during a silent auction. Come enjoy some amazing food and support a great cause!
X-ALT-DESC;FMTTYPE=text/html:<span style="caret-color: rgb(29\, 33\, 41)\; color: rgb(29\, 33\, 41)\; font-family: system-ui\, -apple-system\, BlinkMacSystemFont\, &quot\;.SFNSText-Regular&quot\;\, sans-serif\; font-size: 14px\; white-space: pre-wrap\;">The Aberdeen Lions Club will be hosting a dinner to benefit Family Promise of Grays Harbor. The dinner will take place on January 13th at 5:30 PM. It will be held in the parish hall of Amazing Grace Lutheran Church\, located in Aberdeen (111 East 4th Street). There also will be items to bid on during a silent auction. Come enjoy some amazing food and support a great cause! </span>
LOCATION:Amazing Grace Lutheran Church 111 East 4th Street Aberdeen\, WA
UID:e.26.12326
SEQUENCE:3
DTSTAMP:20260424T042515Z
URL:https://chamber.graysharbor.org/events/details/aberdeen-lions-club-benefit-dinner-for-family-promise-12326
END:VEVENT

END:VCALENDAR
