BEGIN:VCALENDAR
VERSION:2.0
PRODID:-//ChamberMaster//Event Calendar 2.0//EN
METHOD:PUBLISH
X-PUBLISHED-TTL:P3D
REFRESH-INTERVAL:P3D
CALSCALE:GREGORIAN
BEGIN:VEVENT
DTSTART:20181007T160000Z
DTEND:20181007T190000Z
X-MICROSOFT-CDO-ALLDAYEVENT:FALSE
SUMMARY:Aberdeen Out of The Darkness Walk
DESCRIPTION:Non-profit community event for The American Foundation for Suicide Prevention
X-ALT-DESC;FMTTYPE=text/html:Non-profit community event for The American Foundation for Suicide Prevention
LOCATION:Morrison Riverfront Park Aberdeen WA
UID:e.26.11171
SEQUENCE:3
DTSTAMP:20260425T002414Z
URL:https://chamber.graysharbor.org/events/details/aberdeen-out-of-the-darkness-walk-10-07-2018-11171
END:VEVENT

END:VCALENDAR
