BEGIN:VCALENDAR
VERSION:2.0
PRODID:-//ChamberMaster//Event Calendar 2.0//EN
METHOD:PUBLISH
X-PUBLISHED-TTL:P3D
REFRESH-INTERVAL:P3D
CALSCALE:GREGORIAN
BEGIN:VEVENT
DTSTART:20171008T160000Z
DTEND:20171008T190000Z
X-MICROSOFT-CDO-ALLDAYEVENT:FALSE
SUMMARY:Aberdeen Out of The Darkness Walk
DESCRIPTION:American Foundation for Suicide Prevention Fundraiser. Walk as a team or individual\, no registration fee - fundraising is optional. Music\, speakers\, mental health information booths and a light breakfast snack.
X-ALT-DESC;FMTTYPE=text/html:American Foundation for Suicide Prevention Fundraiser. Walk as a team or individual\, no registration fee - fundraising is optional. Music\, speakers\, mental health information booths and a light breakfast snack.
LOCATION:Morrison Riverfront Park Aberdeen
UID:e.26.8215
SEQUENCE:3
DTSTAMP:20260425T200732Z
URL:https://chamber.graysharbor.org/events/details/aberdeen-out-of-the-darkness-walk-10-08-2017-8215
END:VEVENT

END:VCALENDAR
