BEGIN:VCALENDAR
VERSION:2.0
PRODID:-//ChamberMaster//Event Calendar 2.0//EN
METHOD:PUBLISH
X-PUBLISHED-TTL:P3D
REFRESH-INTERVAL:P3D
CALSCALE:GREGORIAN
BEGIN:VEVENT
DTSTART:20190519T003000Z
DTEND:20190519T050000Z
X-MICROSOFT-CDO-ALLDAYEVENT:FALSE
SUMMARY:Aberdeen Rotary Annual Auction
DESCRIPTION:Timber! Channel your flannel for a lumber jack bash as we celebrate 25 years of the Rotary Log Pavilion at the annual auction.\n\n	Dinner will be catered by O'Briens\n	Live/Silent Auction\n	Open Bar\n	Dessert Dash\n\nDinner Menu Includes:\n\nNew York Strip Steak or Chicken with Cranberry apricot glaze\, Carrot Logs\, Seasoned Potatoes\, Garden Green Salad  \n\n\n\nVegetarian\, vegan & gluten free  \n\noptions available with advance notice
X-ALT-DESC;FMTTYPE=text/html:<span style="caret-color: rgb(29\, 33\, 41)\; color: rgb(29\, 33\, 41)\; font-family: system-ui\, -apple-system\, BlinkMacSystemFont\, &quot\;.SFNSText-Regular&quot\;\, sans-serif\; font-size: 14px\; white-space: pre-wrap\;">Timber! Channel your flannel for a lumber jack bash as we celebrate 25 years of the Rotary Log Pavilion at the annual auction.</span>\n<ul>\n	<li><span style="caret-color: rgb(29\, 33\, 41)\; color: rgb(29\, 33\, 41)\; font-family: system-ui\, -apple-system\, BlinkMacSystemFont\, &quot\;.SFNSText-Regular&quot\;\, sans-serif\; font-size: 14px\; white-space: pre-wrap\;">Dinner will be catered by O&#39\;Briens</span></li>\n	<li><span style="caret-color: rgb(29\, 33\, 41)\; color: rgb(29\, 33\, 41)\; font-family: system-ui\, -apple-system\, BlinkMacSystemFont\, &quot\;.SFNSText-Regular&quot\;\, sans-serif\; font-size: 14px\; white-space: pre-wrap\;">Live/Silent Auction</span></li>\n	<li><span style="caret-color: rgb(29\, 33\, 41)\; color: rgb(29\, 33\, 41)\; font-family: system-ui\, -apple-system\, BlinkMacSystemFont\, &quot\;.SFNSText-Regular&quot\;\, sans-serif\; font-size: 14px\; white-space: pre-wrap\;">Open Bar</span></li>\n	<li><span style="caret-color: rgb(29\, 33\, 41)\; color: rgb(29\, 33\, 41)\; font-family: system-ui\, -apple-system\, BlinkMacSystemFont\, &quot\;.SFNSText-Regular&quot\;\, sans-serif\; font-size: 14px\; white-space: pre-wrap\;">Dessert Dash</span></li>\n</ul>\n<span style="font-size:14px\;"><span style="font-family:arial\;"><span style="text-align: -webkit-center\;">Dinner Menu Includes:</span><br style="caret-color: rgb(0\, 0\, 0)\; color: rgb(0\, 0\, 0)\; font-size: 16px\; font-family: &quot\;Open Sans&quot\;\, sans-serif\; text-align: -webkit-center\;" />\n<span style="text-align: -webkit-center\;">New York Strip Steak or&nbsp\;</span><span style="text-align: -webkit-center\;">Chicken with Cranberry apricot glaze\,&nbsp\;</span><span style="text-align: -webkit-center\;">Carrot Logs\,&nbsp\;</span><span style="text-align: -webkit-center\;">Seasoned Potatoes\,&nbsp\;</span><span style="text-align: -webkit-center\;">Garden Green Salad&nbsp\;&nbsp\;</span><br style="caret-color: rgb(0\, 0\, 0)\; color: rgb(0\, 0\, 0)\; font-size: 16px\; font-family: &quot\;Open Sans&quot\;\, sans-serif\; text-align: -webkit-center\;" />\n<br style="caret-color: rgb(0\, 0\, 0)\; color: rgb(0\, 0\, 0)\; font-size: 16px\; font-family: &quot\;Open Sans&quot\;\, sans-serif\; text-align: -webkit-center\;" />\n<i style="caret-color: rgb(0\, 0\, 0)\; color: rgb(0\, 0\, 0)\; font-size: 16px\; font-family: &quot\;Open Sans&quot\;\, sans-serif\; text-align: -webkit-center\;">Vegetarian\, vegan &amp\; gluten free&nbsp\;&nbsp\;<br />\noptions available with advance notice</i></span></span>
LOCATION:pin Rotary Club of Aberdeen\, WA #56 1399 Sargent Blvd / PO Box 836\, Aberdeen\, Washington 98520
UID:e.26.11892
SEQUENCE:3
DTSTAMP:20260424T132713Z
URL:https://chamber.graysharbor.org/events/details/aberdeen-rotary-annual-auction-11892
END:VEVENT

END:VCALENDAR
