BEGIN:VCALENDAR
VERSION:2.0
PRODID:-//ChamberMaster//Event Calendar 2.0//EN
METHOD:PUBLISH
X-PUBLISHED-TTL:P3D
REFRESH-INTERVAL:P3D
CALSCALE:GREGORIAN
BEGIN:VEVENT
DTSTART:20190704T190000Z
DTEND:20190705T060000Z
X-MICROSOFT-CDO-ALLDAYEVENT:FALSE
SUMMARY:Aberdeen Splash Festival
DESCRIPTION:The annual Splash Festival will take place this 4th of July at Aberdeen's Morrison Park.\n\nThe Splash Festival is a great way to spend the day with friends and loved ones as there's something for everyone to enjoy. The event will feature live music\, family-friend entertainers\, food and craft vendors as well as free games and inflatable toys all at the scenic Morrison Park. At 10pm the main attraction will begin   the fantastic firework show over the river! Consider launching a boat into the mighty Chehalis River or booking a sail onboard the Lady Washington for the best view of the show. \n\nFor more information\, call the City of Aberdeen at 360-537-3229.
X-ALT-DESC;FMTTYPE=text/html:<p style="font-family: Arial\, sans-serif\; box-sizing: border-box\; line-height: 26px\; margin-top: 0px\; margin-bottom: 26px\; word-wrap: break-word\; caret-color: rgb(34\, 34\, 34)\; color: rgb(34\, 34\, 34)\;"><span style="font-size:14px\;"><span style="font-family:arial\;">The annual Splash Festival will take place this 4th of July at Aberdeen&#39\;s Morrison Park.</span></span><br />\n<span style="font-size:14px\;"><span style="font-family:arial\;">The Splash Festival is a great way to spend the day with friends and loved ones as there&#39\;s something for everyone to enjoy. The event will feature live music\, family-friend entertainers\, food and craft vendors as well as free games and inflatable toys all at the scenic&nbsp\;<a class="external" href="https://www.facebook.com/pages/Morrison-Park-Aberdeen-Wa/174530149227856" rel="nofollow" style="text-decoration: none\; color: rgb(77\, 178\, 236)\; box-sizing: border-box\; background-color: transparent\;" target="_blank">Morrison Park</a>. At 10pm the main attraction will begin &ndash\; the fantastic firework show over the river! Consider launching a boat into the mighty Chehalis River or booking a sail onboard the Lady Washington for the best view of the show.&nbsp\;</span></span></p>\n\n<p style="font-family: Arial\, sans-serif\; box-sizing: border-box\; line-height: 26px\; margin-top: 0px\; margin-bottom: 26px\; word-wrap: break-word\; caret-color: rgb(34\, 34\, 34)\; color: rgb(34\, 34\, 34)\;"><span style="font-size:14px\;"><span style="font-family:arial\;">For more information\, call the City of Aberdeen at 360-537-3229.</span></span></p>\n
LOCATION:Morrison Riverfront Park 1301-2527 Olympic Hwy Aberdeen\, WA
UID:e.26.12090
SEQUENCE:3
DTSTAMP:20260424T104359Z
URL:https://chamber.graysharbor.org/events/details/aberdeen-splash-festival-12090
END:VEVENT

END:VCALENDAR
