BEGIN:VCALENDAR
VERSION:2.0
PRODID:-//ChamberMaster//Event Calendar 2.0//EN
METHOD:PUBLISH
X-PUBLISHED-TTL:P3D
REFRESH-INTERVAL:P3D
CALSCALE:GREGORIAN
BEGIN:VEVENT
DTSTART:20190721T170000Z
DTEND:20190721T220000Z
X-MICROSOFT-CDO-ALLDAYEVENT:FALSE
SUMMARY:Aberdeen Sunday Market
DESCRIPTION:Local produce\, fare and makers every Sunday in Downtown Aberdeen. 10 am to 3 pm\, through September 15th.
X-ALT-DESC;FMTTYPE=text/html:Local produce\, fare and makers every Sunday in Downtown Aberdeen. 10 am to 3 pm\, through September 15th.
LOCATION:Broadway and Heron Aberdeen\, WA
UID:e.26.12079
SEQUENCE:3
DTSTAMP:20260424T115424Z
URL:https://chamber.graysharbor.org/events/details/aberdeen-sunday-market-07-21-2019-12079
END:VEVENT

END:VCALENDAR
