BEGIN:VCALENDAR
VERSION:2.0
PRODID:-//ChamberMaster//Event Calendar 2.0//EN
METHOD:PUBLISH
X-PUBLISHED-TTL:P3D
REFRESH-INTERVAL:P3D
CALSCALE:GREGORIAN
BEGIN:VEVENT
DTSTART:20200614T170000Z
DTEND:20200614T220000Z
X-MICROSOFT-CDO-ALLDAYEVENT:FALSE
SUMMARY:Aberdeen Sunday Market Opening Day
DESCRIPTION:Come one\, come all the Aberdeen Sunday Market is returning for the 2020 season! We will give a free plant to the first 25 customers and there will be fabulous live music by Chad Shue from Noon to 2PM. We accept SNAP and WIC.
X-ALT-DESC;FMTTYPE=text/html:<div class="_63eu" style="box-sizing: border-box\; font-size: 14px\; max-height: 260px\; overflow: hidden\; padding: 12px\; word-wrap: break-word\; font-family: system-ui\, -apple-system\, BlinkMacSystemFont\, &quot\;.SFNSText-Regular&quot\;\, sans-serif\; caret-color: rgb(29\, 33\, 41)\; color: rgb(29\, 33\, 41)\;">\n<div class="_63ew" style="white-space: pre-wrap\; font-family: inherit\;"><span style="font-size:14px\;">Come one\, come all&ndash\;the Aberdeen Sunday Market is returning for the 2020 season! We will give a free plant to the first 25 customers and there will be fabulous live music by Chad Shue from Noon to 2PM. We accept SNAP and WIC.</span></div>\n</div>\n
LOCATION:Downtown Aberdeen - Heron & Broadway Streets
UID:e.26.12469
SEQUENCE:3
DTSTAMP:20260424T115424Z
URL:https://chamber.graysharbor.org/events/details/aberdeen-sunday-market-opening-day-12469
END:VEVENT

END:VCALENDAR
