BEGIN:VCALENDAR
VERSION:2.0
PRODID:-//ChamberMaster//Event Calendar 2.0//EN
METHOD:PUBLISH
X-PUBLISHED-TTL:P3D
REFRESH-INTERVAL:P3D
CALSCALE:GREGORIAN
BEGIN:VEVENT
DTSTART:20190526T170000Z
DTEND:20190526T180000Z
X-MICROSOFT-CDO-ALLDAYEVENT:FALSE
SUMMARY:Aberdeen Sunday Market Ribbon Cutting
DESCRIPTION:GGHI will be present to help celebrate the grand opening of the new Aberdeen Sunday Market with a ribbon cutting on Sunday\, May 26th at 10 am! The market will be located at the south end of Broadway\, between Heron Street and State Street. Please join us and check out this exciting new market in downtown Aberdeen and pick up some fresh\, local produce!
X-ALT-DESC;FMTTYPE=text/html:<span style="caret-color: rgb(34\, 34\, 34)\; color: rgb(34\, 34\, 34)\; font-family: Arial\, Helvetica\, sans-serif\; font-size: small\;">GGHI will be present to help celebrate the grand opening of the new Aberdeen Sunday Market with a ribbon cutting on Sunday\, May 26</span><sup style="caret-color: rgb(34\, 34\, 34)\; color: rgb(34\, 34\, 34)\; font-family: Arial\, Helvetica\, sans-serif\;">th</sup><span style="caret-color: rgb(34\, 34\, 34)\; color: rgb(34\, 34\, 34)\; font-family: Arial\, Helvetica\, sans-serif\; font-size: small\;">&nbsp\;at 10 am! The market will be located at the south end of Broadway\, between Heron Street and State Street. Please join us and check out this exciting new market in downtown Aberdeen and pick up some fresh\, local produce!</span>
LOCATION:South end of Broadway\, between Heron Street and State Street Aberdeen\, WA
UID:e.26.11999
SEQUENCE:3
DTSTAMP:20260424T133444Z
URL:https://chamber.graysharbor.org/events/details/aberdeen-sunday-market-ribbon-cutting-11999
END:VEVENT

END:VCALENDAR
