BEGIN:VCALENDAR
VERSION:2.0
PRODID:-//ChamberMaster//Event Calendar 2.0//EN
METHOD:PUBLISH
X-PUBLISHED-TTL:P3D
REFRESH-INTERVAL:P3D
CALSCALE:GREGORIAN
BEGIN:VEVENT
DTSTART:20200221T010000Z
DTEND:20200221T020000Z
X-MICROSOFT-CDO-ALLDAYEVENT:FALSE
SUMMARY:Aberdeen Timberland Library Redesign Open House
DESCRIPTION:The community is invited to an Open House featuring plans for the Aberdeen Timberland Library's upcoming Library Redesign and Remodel! Learn about the planning process\, options for the library's floor layout\, opportunities for growth in public space and community meeting rooms\, and our Digital Makerspace plan. Meet the architect\, ask questions and give input on the design plans. Refreshments provided by Friends of the Aberdeen Timberland Library. We look forward to hearing from you!
X-ALT-DESC;FMTTYPE=text/html:The community is invited to an Open House featuring plans for the Aberdeen Timberland Library&#39\;s upcoming Library Redesign and Remodel! Learn about the planning process\, options for the library&#39\;s floor layout\, opportunities for growth in public space and community meeting rooms\, and our Digital Makerspace plan. Meet the architect\, ask questions and give input on the design plans. Refreshments provided by Friends of the Aberdeen Timberland Library. We look forward to hearing from you!
LOCATION:Aberdeen Timberland Library Rosalie N. Spellman Meeting Room 121 E. Market Street Aberdeen\, WA 98520
UID:e.26.12384
SEQUENCE:3
DTSTAMP:20260424T013020Z
URL:https://chamber.graysharbor.org/events/details/aberdeen-timberland-library-redesign-open-house-12384
END:VEVENT

END:VCALENDAR
