BEGIN:VCALENDAR
VERSION:2.0
PRODID:-//ChamberMaster//Event Calendar 2.0//EN
METHOD:PUBLISH
X-PUBLISHED-TTL:P3D
REFRESH-INTERVAL:P3D
CALSCALE:GREGORIAN
BEGIN:VEVENT
DTSTART:20170930T200000Z
DTEND:20170930T223000Z
X-MICROSOFT-CDO-ALLDAYEVENT:FALSE
SUMMARY:Aberdeen Walking Tour
DESCRIPTION:Meet your knowledgeable tour guide at Aberdeen Museum of History and make your way to the historic downtown streets of Aberdeen. Along the way revel at stories from Aberdeen's colorful past when ladies of the night brushed shoulders with notorious characters such as Billy Gohl\, all while stepping foot in some of Aberdeen's most notable buildings. Be sure to bring your walking shoes and be prepared to take a step back in time with your knowledgeable tour guide! We will start or end the day with a tour of the Aberdeen Museum of History!\n\n 9/30 \n\nTime: 1:00 p.m. - 3:30 p.m. Cost: $17.00 50+ Cost: $15.00\n\ncall: 360.538.4088 to register
X-ALT-DESC;FMTTYPE=text/html:<span style="color: rgb(75\, 79\, 86)\; font-family: Helvetica\, Arial\, sans-serif\; font-size: 14px\; background-color: rgb(255\, 255\, 255)\;">Meet your knowledgeable tour guide at Aberdeen Museum of History and make your way to the historic downtown streets of Aberdeen. Along the way revel at stories from Aberdeen&#39\;s colorful past when ladies of the night brushed shoulders with notorious characters such as Billy Gohl\, all while stepping foot in some of Aberdeen&#39\;s most notable buildings. Be sure to bring your walking shoes and be prepared to take a step back in time with your knowledgeable tour guide! We will start or end the day with a tour of the Aberdeen Museum of History!</span><br style="color: rgb(75\, 79\, 86)\; font-family: Helvetica\, Arial\, sans-serif\; font-size: 14px\; background-color: rgb(255\, 255\, 255)\;" />\n<span style="color: rgb(75\, 79\, 86)\; font-family: Helvetica\, Arial\, sans-serif\; font-size: 14px\; background-color: rgb(255\, 255\, 255)\;">&nbsp\;9/30&nbsp\;</span><br style="color: rgb(75\, 79\, 86)\; font-family: Helvetica\, Arial\, sans-serif\; font-size: 14px\; background-color: rgb(255\, 255\, 255)\;" />\n<span style="color: rgb(75\, 79\, 86)\; font-family: Helvetica\, Arial\, sans-serif\; font-size: 14px\; background-color: rgb(255\, 255\, 255)\;">Time: 1:00 p.m. - 3:30 p.m. Cost: $17.00 50+ Cost: $15.00</span><br style="color: rgb(75\, 79\, 86)\; font-family: Helvetica\, Arial\, sans-serif\; font-size: 14px\; background-color: rgb(255\, 255\, 255)\;" />\n<span style="color: rgb(75\, 79\, 86)\; font-family: Helvetica\, Arial\, sans-serif\; font-size: 14px\; background-color: rgb(255\, 255\, 255)\;">call: 360.538.4088 to register</span>
LOCATION:Meet at the Aberdeen Museum of History
UID:e.26.8235
SEQUENCE:3
DTSTAMP:20260425T213142Z
URL:https://chamber.graysharbor.org/events/details/aberdeen-walking-tour-8235
END:VEVENT

END:VCALENDAR
