BEGIN:VCALENDAR
VERSION:2.0
PRODID:-//ChamberMaster//Event Calendar 2.0//EN
METHOD:PUBLISH
X-PUBLISHED-TTL:P3D
REFRESH-INTERVAL:P3D
CALSCALE:GREGORIAN
BEGIN:VEVENT
DTSTART:20181027T030000Z
DTEND:20181027T065500Z
X-MICROSOFT-CDO-ALLDAYEVENT:FALSE
SUMMARY:Adult Halloween Costume Party
DESCRIPTION:ADULTS ONLY COSTUME PARTY AT TOWN HALL | 8PM-12AM | NO COVER |\n \n\nGet dressed up and head to the Town Hall for dancing\, drinks\, games\, and a costume contest for prizes!
X-ALT-DESC;FMTTYPE=text/html:<span style="margin: 0px\; outline: none 0px\; padding: 0px\; color: rgb(57\, 79\, 90)\; font-family: Ubuntu\, arial\, sans-serif\; font-size: 14px\; background-color: rgb(246\, 247\, 247)\;">ADULTS ONLY COSTUME PARTY AT TOWN HALL | 8PM-12AM | NO COVER |</span>\n<div style="margin: 0px\; outline: none 0px\; padding: 0px\; color: rgb(57\, 79\, 90)\; font-family: Ubuntu\, arial\, sans-serif\; font-size: 14px\; background-color: rgb(246\, 247\, 247)\;">&nbsp\;</div>\n\n<div style="margin: 0px\; outline: none 0px\; padding: 0px\; color: rgb(57\, 79\, 90)\; font-family: Ubuntu\, arial\, sans-serif\; font-size: 14px\; background-color: rgb(246\, 247\, 247)\;">Get dressed up and head to the Town Hall for dancing\, drinks\, games\, and a costume contest for prizes!&nbsp\;&nbsp\;</div>\n
LOCATION:Town Hall Seabrook Pacific Beach
UID:e.26.9474
SEQUENCE:3
DTSTAMP:20260425T002231Z
URL:https://chamber.graysharbor.org/events/details/adult-halloween-costume-party-9474
END:VEVENT

END:VCALENDAR
