BEGIN:VCALENDAR
VERSION:2.0
PRODID:-//ChamberMaster//Event Calendar 2.0//EN
METHOD:PUBLISH
X-PUBLISHED-TTL:P3D
REFRESH-INTERVAL:P3D
CALSCALE:GREGORIAN
BEGIN:VEVENT
DTSTART:20190423T230000Z
DTEND:20190424T000000Z
X-MICROSOFT-CDO-ALLDAYEVENT:FALSE
SUMMARY:Adulting 101: Basic Car Maintenance
DESCRIPTION:Learn about basic car maintenance with a representative from Napa Auto Parts. This program is for teens ages 13-19.
X-ALT-DESC;FMTTYPE=text/html:<span style="font-size: 16px\; caret-color: rgb(68\, 68\, 68)\; color: rgb(68\, 68\, 68)\; font-family: Roboto\, sans-serif\; font-weight: bold\;">Learn about basic car maintenance with a representative from Napa Auto Parts. This program is for teens ages 13-19.</span>
LOCATION:Elma Timberland Library
UID:e.26.11940
SEQUENCE:3
DTSTAMP:20260424T163153Z
URL:https://chamber.graysharbor.org/events/details/adulting-101-basic-car-maintenance-11940
END:VEVENT

END:VCALENDAR
