BEGIN:VCALENDAR
VERSION:2.0
PRODID:-//ChamberMaster//Event Calendar 2.0//EN
METHOD:PUBLISH
X-PUBLISHED-TTL:P3D
REFRESH-INTERVAL:P3D
CALSCALE:GREGORIAN
BEGIN:VEVENT
DTSTART:20190601T200000Z
DTEND:20190601T210000Z
X-MICROSOFT-CDO-ALLDAYEVENT:FALSE
SUMMARY:Adulting 101: Basic Car Maintenance
DESCRIPTION:Learn about basic car maintenance with a representative from Napa Auto Parts. This program is for teens ages 13-19.
X-ALT-DESC;FMTTYPE=text/html:<div class="field field-name-body field-type-text-with-summary field-label-hidden" style="font-size: 16px\; box-sizing: border-box\; margin-bottom: 15px\; border-top-width: 3px\; border-top-style: double\; border-top-color: rgb(121\, 147\, 43)\; margin-top: 30px\; padding-top: 20px\; font-weight: bold\; caret-color: rgb(68\, 68\, 68)\; color: rgb(68\, 68\, 68)\; font-family: Roboto\, sans-serif\;">\n<div class="field-items" style="box-sizing: border-box\;">\n<div class="field-item even" property="content:encoded" style="box-sizing: border-box\;">\n<p style="box-sizing: border-box\; margin: 0px 0px 10px\;">Learn about basic car maintenance with a representative from Napa Auto Parts. This program is for teens ages 13-19.&nbsp\;</p>\n</div>\n</div>\n</div>\n\n<div class="field field-name-field-event-type field-type-taxonomy-term-reference field-label-hidden" style="font-size: 16px\; box-sizing: border-box\; margin-bottom: 15px\; caret-color: rgb(68\, 68\, 68)\; color: rgb(68\, 68\, 68)\; font-family: Roboto\, sans-serif\;">\n<div class="field-items" style="box-sizing: border-box\;">\n<div class="field-item even" style="box-sizing: border-box\;">&nbsp\;</div>\n</div>\n</div>\n
LOCATION:McCleary Timberland Library
UID:e.26.11946
SEQUENCE:3
DTSTAMP:20260424T115801Z
URL:https://chamber.graysharbor.org/events/details/adulting-101-basic-car-maintenance-11946
END:VEVENT

END:VCALENDAR
