BEGIN:VCALENDAR
VERSION:2.0
PRODID:-//ChamberMaster//Event Calendar 2.0//EN
METHOD:PUBLISH
X-PUBLISHED-TTL:P3D
REFRESH-INTERVAL:P3D
CALSCALE:GREGORIAN
BEGIN:VEVENT
DTSTART:20190316T170000Z
DTEND:20190316T203000Z
X-MICROSOFT-CDO-ALLDAYEVENT:FALSE
SUMMARY:AGING & END OF LIFE CARE WORKSHOP
DESCRIPTION:First Presbyterian Church of Aberdeen and local community experts are hosting a FREE collaborative community event to provide basic information on a variety of topics that individuals and families face as they or their loved ones get older. You are invited to join in for discussion and learn more about end of life planning. A light lunch and refreshments will be provided. For more info: www.aberdeenpres.org ~ email: info@aberdeenpres.org ~ 360.532.1330
X-ALT-DESC;FMTTYPE=text/html:First Presbyterian Church of Aberdeen and local community experts are hosting a FREE collaborative community event to provide basic information on a variety of topics that individuals and families face as they or their loved ones get older. You are invited to join in for discussion and learn more about end of life planning. A light lunch and refreshments will be provided. For more info: www.aberdeenpres.org ~ email: info@aberdeenpres.org ~ 360.532.1330
LOCATION:First Presbyterian Church of Aberdeen 420 N Broadway Aberdeen\, WA 98520
UID:e.26.11788
SEQUENCE:3
DTSTAMP:20260424T163547Z
URL:https://chamber.graysharbor.org/events/details/aging-end-of-life-care-workshop-11788
END:VEVENT

END:VCALENDAR
