BEGIN:VCALENDAR
VERSION:2.0
PRODID:-//ChamberMaster//Event Calendar 2.0//EN
METHOD:PUBLISH
X-PUBLISHED-TTL:P3D
REFRESH-INTERVAL:P3D
CALSCALE:GREGORIAN
BEGIN:VEVENT
DTSTART:20181229T050000Z
DTEND:20181229T070000Z
X-MICROSOFT-CDO-ALLDAYEVENT:FALSE
SUMMARY:Alex Mabey Live at Rediviva
DESCRIPTION:Alex Mabey will be performing live at Rediviva in downtown Aberdeen this Friday\, Dec. 28th at 9pm. Enjoy excellent PNW cuisine in a comfortable setting to end 2018 on a high note.
X-ALT-DESC;FMTTYPE=text/html:Alex Mabey will be performing live at Rediviva in downtown Aberdeen this Friday\, Dec. 28th at 9pm. Enjoy excellent PNW cuisine in a comfortable setting to end 2018 on a high note.&nbsp\;
LOCATION:Rediviva 118 E Wishlah St. Aberdeen\, WA
UID:e.26.11406
SEQUENCE:3
DTSTAMP:20260424T210807Z
URL:https://chamber.graysharbor.org/events/details/alex-mabey-live-at-rediviva-11406
END:VEVENT

END:VCALENDAR
