BEGIN:VCALENDAR
VERSION:2.0
PRODID:-//ChamberMaster//Event Calendar 2.0//EN
METHOD:PUBLISH
X-PUBLISHED-TTL:P3D
REFRESH-INTERVAL:P3D
CALSCALE:GREGORIAN
BEGIN:VEVENT
DTSTART:20190420T020000Z
DTEND:20190420T050000Z
X-MICROSOFT-CDO-ALLDAYEVENT:FALSE
SUMMARY:Alex Mabey Send-Off
DESCRIPTION:This is the official event for the charity show Alex Mabey's doing before I move to Nashville! Bring your friends! \n\nCD sales\, beer\, and raffle ticket proceeds will go to United Way. Some of the items came from local businesses such as MOB\, The Salmon House in Quinault\, Studio ii\, and more!
X-ALT-DESC;FMTTYPE=text/html:<span style="caret-color: rgb(29\, 33\, 41)\; color: rgb(29\, 33\, 41)\; font-family: system-ui\, -apple-system\, BlinkMacSystemFont\, &quot\;.SFNSText-Regular&quot\;\, sans-serif\; font-size: 14px\;">This is the official event for the charity show Alex Mabey&#39\;s doing before I move to Nashville! Bring your friends!&nbsp\;</span><br style="caret-color: rgb(29\, 33\, 41)\; color: rgb(29\, 33\, 41)\; font-family: system-ui\, -apple-system\, BlinkMacSystemFont\, &quot\;.SFNSText-Regular&quot\;\, sans-serif\; font-size: 14px\;" />\n<span style="caret-color: rgb(29\, 33\, 41)\; color: rgb(29\, 33\, 41)\; font-family: system-ui\, -apple-system\, BlinkMacSystemFont\, &quot\;.SFNSText-Regular&quot\;\, sans-serif\; font-size: 14px\;">CD sales\, beer\, and raffle ticket proceeds will go to United Way. Some of the items came from local businesses such as MOB\, The Salmon House in Quinault\, Studio ii\, and more!&nbsp\;</span>
LOCATION:pin Mount Olympus Brewing Company 105 W HERON ST\, Aberdeen\, Washington 98520
UID:e.26.11934
SEQUENCE:3
DTSTAMP:20260424T150915Z
URL:https://chamber.graysharbor.org/events/details/alex-mabey-send-off-11934
END:VEVENT

END:VCALENDAR
