BEGIN:VCALENDAR
VERSION:2.0
PRODID:-//ChamberMaster//Event Calendar 2.0//EN
METHOD:PUBLISH
X-PUBLISHED-TTL:P3D
REFRESH-INTERVAL:P3D
CALSCALE:GREGORIAN
BEGIN:VEVENT
DTSTART:20121027T010000Z
DTEND:20121027T043000Z
X-MICROSOFT-CDO-ALLDAYEVENT:FALSE
SUMMARY:Alien Encounters Double Feature
DESCRIPTION:Enjoy a blast from the past--a Ray Bradbury flying saucer film from the 1950s followed by a futuristic vision of alien visitors filmed 25 years later. The program is free and takes place after regular library hours. Doors will reopen from 5:30-6 p.m. for the first show and 7:15-7:30 p.m. for the second show. Refreshments provided by the Friends of the Aberdeen Timberland Library. This program is part of Timberland Reads Together: Fahrenheit 451\, Timberland Regional Library's one book-one community reading initiative for 2012.
X-ALT-DESC;FMTTYPE=text/html:Enjoy a blast from the past--a Ray Bradbury flying saucer film from the 1950s followed by a futuristic vision of alien visitors filmed 25 years later. The program is free and takes place after regular library hours. Doors will reopen from 5:30-6 p.m. for the first show and 7:15-7:30 p.m. for the second show. Refreshments provided by the Friends of the Aberdeen Timberland Library. This program is part of Timberland Reads Together: Fahrenheit 451\, Timberland Regional Library&rsquo\;s one book-one community reading initiative for 2012.
LOCATION:Aberdeen Timberland Library. 121 E Market\, Aberdeen\, WA 98520
UID:e.26.2349
SEQUENCE:3
DTSTAMP:20260424T224016Z
URL:https://chamber.graysharbor.org/events/details/alien-encounters-double-feature-10-26-2012-2349
END:VEVENT

END:VCALENDAR
