BEGIN:VCALENDAR
VERSION:2.0
PRODID:-//ChamberMaster//Event Calendar 2.0//EN
METHOD:PUBLISH
X-PUBLISHED-TTL:P3D
REFRESH-INTERVAL:P3D
CALSCALE:GREGORIAN
BEGIN:VEVENT
DTSTART:20190506T200000Z
DTEND:20190506T210000Z
X-MICROSOFT-CDO-ALLDAYEVENT:FALSE
SUMMARY:Alzheimer's Association Caregiver Support Group
DESCRIPTION:Caring for someone with memory loss? Do you need information and support? Alzheimer's Association family caregiver support groups provide a consistent and caring place for people to learn\, share and gain emotional support from others who are also on a unique journey of providing care to a person with memory loss. Starting in May\, two meetings will be held the 1st Monday of the month.
X-ALT-DESC;FMTTYPE=text/html:Caring for someone with memory loss? Do you need information and support? Alzheimer&rsquo\;s Association family caregiver support groups provide a consistent and caring place for people to learn\, share and gain emotional support from others who are also on a unique journey of providing care to a person with memory loss. Starting in May\, two meetings will be held the 1st Monday of the month.
LOCATION:Summit Pacific Medical Center 600 E Main St. Elma\, WA 98541
UID:e.26.11900
SEQUENCE:3
DTSTAMP:20260424T133125Z
URL:https://chamber.graysharbor.org/events/details/alzheimer-s-association-caregiver-support-group-05-06-2019-11900
END:VEVENT

END:VCALENDAR
