BEGIN:VCALENDAR
VERSION:2.0
PRODID:-//ChamberMaster//Event Calendar 2.0//EN
METHOD:PUBLISH
X-PUBLISHED-TTL:P3D
REFRESH-INTERVAL:P3D
CALSCALE:GREGORIAN
BEGIN:VEVENT
DTSTART:20180820T200000Z
DTEND:20180820T213000Z
X-MICROSOFT-CDO-ALLDAYEVENT:FALSE
SUMMARY:Alzheimer's Association Caregiver Support Group
DESCRIPTION:Caring for someone with memory loss? Do you need information and support? Alzheimer's Association family caregiver support groups provide a consistent and caring place for people to learn\, share and gain emotional support from others who are also on a unique journey of providing care to a person with memory loss.
X-ALT-DESC;FMTTYPE=text/html:Caring for someone with memory loss? Do you need information and support? Alzheimer&rsquo\;s Association family caregiver support groups provide a consistent and caring place for people to learn\, share and gain emotional support from others who are also on a unique journey of providing care to a person with memory loss.
LOCATION:First Presbyterian Church of Aberdeen 420 N Broadway St Aberdeen\, WA 98520
UID:e.26.11194
SEQUENCE:3
DTSTAMP:20260425T034057Z
URL:https://chamber.graysharbor.org/events/details/alzheimer-s-association-caregiver-support-group-11194
END:VEVENT

END:VCALENDAR
