BEGIN:VCALENDAR
VERSION:2.0
PRODID:-//ChamberMaster//Event Calendar 2.0//EN
METHOD:PUBLISH
X-PUBLISHED-TTL:P3D
REFRESH-INTERVAL:P3D
CALSCALE:GREGORIAN
BEGIN:VEVENT
DTSTART:20180220T210000Z
DTEND:20180220T223000Z
X-MICROSOFT-CDO-ALLDAYEVENT:FALSE
SUMMARY:Alzheimers' Association Caregiver Support Group in Aberdeen
DESCRIPTION:Caring for someone with memory loss? Do you need information and support? Alzheimer's Association family caregiver support groups provide a consistent and caring place for people to learn\, share and gain emotional support from others who are also on a unique journey of providing care to a person with memory loss. Meetings are held the 3rd Tuesday of the month\, 1:00 pm   2:30 pm\, at First Presbyterian Church of Aberdeen\, 420 N. Broadway St.\, Aberdeen WA 98520. For information call Helen Morning Star at (360) 533-2277. #### About the Alzheimer's Association The Alzheimer's Association is the world's leading voluntary health organization in Alzheimer's care\, support and research. Our mission is to eliminate Alzheimer's disease through the advancement of research\; to provide and enhance care and support for all affected\; and to reduce the risk of dementia through the promotion of brain health. Our vision is a world without Alzheimer's. For more information\, visit www.alz.org. # # #
X-ALT-DESC;FMTTYPE=text/html:Caring for someone with memory loss? Do you need information and support? Alzheimer&rsquo\;s Association family caregiver support groups provide a consistent and caring place for people to learn\, share and gain emotional support from others who are also on a unique journey of providing care to a person with memory loss. Meetings are held the 3rd Tuesday of the month\, 1:00 pm &ndash\; 2:30 pm\, at First Presbyterian Church of Aberdeen\, 420 N. Broadway St.\, Aberdeen WA 98520. For information call Helen Morning Star at (360) 533-2277. #### About the Alzheimer&rsquo\;s Association The Alzheimer&#39\;s Association is the world&rsquo\;s leading voluntary health organization in Alzheimer&rsquo\;s care\, support and research. Our mission is to eliminate Alzheimer&rsquo\;s disease through the advancement of research\; to provide and enhance care and support for all affected\; and to reduce the risk of dementia through the promotion of brain health. Our vision is a world without Alzheimer&rsquo\;s. For more information\, visit www.alz.org. # # #
LOCATION:First Presbyterian Church of Aberdeen 420 N. Broadway St. Aberdeen\, WA 98520
UID:e.26.9522
SEQUENCE:3
DTSTAMP:20260425T145955Z
URL:https://chamber.graysharbor.org/events/details/alzheimers-association-caregiver-support-group-in-aberdeen-9522
END:VEVENT

END:VCALENDAR
