BEGIN:VCALENDAR
VERSION:2.0
PRODID:-//ChamberMaster//Event Calendar 2.0//EN
METHOD:PUBLISH
X-PUBLISHED-TTL:P3D
REFRESH-INTERVAL:P3D
CALSCALE:GREGORIAN
BEGIN:VEVENT
DTSTART:20171217T033000Z
DTEND:20171217T063000Z
X-MICROSOFT-CDO-ALLDAYEVENT:FALSE
SUMMARY:Amahl and the Night Visitors
DESCRIPTION:The GHC Opera Workshop presents Gian Carlo Menotti's beloved one-act Christmas opera\, a tale of a shepherd boy and his mother whose lives are changed forever when the Three Kings pass through their village on the way to Bethlehem. Presented in English. All Tickets $10 Ages 12 & under free with paying ticket holder
X-ALT-DESC;FMTTYPE=text/html:The GHC Opera Workshop presents Gian Carlo Menotti&#39\;s beloved one-act Christmas opera\, a tale of a shepherd boy and his mother whose lives are changed forever when the Three Kings pass through their village on the way to Bethlehem. Presented in English. All Tickets $10 Ages 12 &amp\; under free with paying ticket holder
LOCATION:Bishop Center for Performing Arts
UID:e.26.8265
SEQUENCE:3
DTSTAMP:20260425T163955Z
URL:https://chamber.graysharbor.org/events/details/amahl-and-the-night-visitors-12-16-2017-8265
END:VEVENT

END:VCALENDAR
