BEGIN:VCALENDAR
VERSION:2.0
PRODID:-//ChamberMaster//Event Calendar 2.0//EN
METHOD:PUBLISH
X-PUBLISHED-TTL:P3D
REFRESH-INTERVAL:P3D
CALSCALE:GREGORIAN
BEGIN:VEVENT
DTSTART:20190519T210000Z
DTEND:20190520T000000Z
X-MICROSOFT-CDO-ALLDAYEVENT:FALSE
SUMMARY:Amazing Bobcat Race
DESCRIPTION:Come join in teams of 4 for a "race around town" inspired by the tv reality show "The Amazing Race." Race to pit stops all over Aberdeen\, compete in challenges\, win some prizes! Contact an AHS cheerleader to sign up a team today! All proceeds help cheerleaders go to cheer camp this summer.
X-ALT-DESC;FMTTYPE=text/html:<span style="caret-color: rgb(29\, 33\, 41)\; color: rgb(29\, 33\, 41)\; font-family: system-ui\, -apple-system\, BlinkMacSystemFont\, &quot\;.SFNSText-Regular&quot\;\, sans-serif\; font-size: 14px\; white-space: pre-wrap\;">Come join in teams of 4 for a &quot\;race around town&quot\; inspired by the tv reality show &quot\;The Amazing Race.&quot\; Race to pit stops all over Aberdeen\, compete in challenges\, win some prizes! Contact an AHS cheerleader to sign up a team today! All proceeds help cheerleaders go to cheer camp this summer.</span>
LOCATION:
UID:e.26.12011
SEQUENCE:3
DTSTAMP:20260424T150435Z
URL:https://chamber.graysharbor.org/events/details/amazing-bobcat-race-12011
END:VEVENT

END:VCALENDAR
