BEGIN:VCALENDAR
VERSION:2.0
PRODID:-//ChamberMaster//Event Calendar 2.0//EN
METHOD:PUBLISH
X-PUBLISHED-TTL:P3D
REFRESH-INTERVAL:P3D
CALSCALE:GREGORIAN
BEGIN:VEVENT
DTSTART:20170624T160000Z
DTEND:20170624T230000Z
X-MICROSOFT-CDO-ALLDAYEVENT:FALSE
SUMMARY:American Junk Queens
DESCRIPTION:Junk Queens Invites you to our special event with 60 + HAND-PICKED VENDORS with primitives\, antiques\, country collectibles\, steam punk\, vintage\, one of a kinds\, RECYCLED\, REUSED\, AND REPURPOSED\, and MORE! Friday June 23rd 9am-4pm Saturday June 24th 9am- 4pm ?Admission $5 or $3 with canned food donation ?kids under 12 FREE\, + Free Parking Grandpa's Trash is our Treasure ?? check out our Facebook page
X-ALT-DESC;FMTTYPE=text/html:Junk Queens Invites you to our special event with 60 + HAND-PICKED VENDORS with primitives\, antiques\, country collectibles\, steam punk\, vintage\, one of a kinds\, RECYCLED\, REUSED\, AND REPURPOSED\, and MORE! Friday June 23rd 9am-4pm Saturday June 24th 9am- 4pm ?Admission $5 or $3 with canned food donation ?kids under 12 FREE\, + Free Parking Grandpa&#39\;s Trash is our Treasure ?? check out our Facebook page
LOCATION:Grays Harbor County Fairgrounds 32 Elma McCleary Road Elma\, WA 98541
UID:e.26.7691
SEQUENCE:3
DTSTAMP:20260426T015438Z
URL:https://chamber.graysharbor.org/events/details/american-junk-queens-06-24-2017-7691
END:VEVENT

END:VCALENDAR
