BEGIN:VCALENDAR
VERSION:2.0
PRODID:-//ChamberMaster//Event Calendar 2.0//EN
METHOD:PUBLISH
X-PUBLISHED-TTL:P3D
REFRESH-INTERVAL:P3D
CALSCALE:GREGORIAN
BEGIN:VEVENT
DTSTART:20171015T010000Z
DTEND:20171015T030000Z
X-MICROSOFT-CDO-ALLDAYEVENT:FALSE
SUMMARY:An Enchanted Evening
DESCRIPTION:The Northwest Carriage Museum presents: An Enchanted Evening
X-ALT-DESC;FMTTYPE=text/html:The Northwest Carriage Museum presents: An Enchanted Evening
LOCATION:Northwest Carriage Museum Raymond\, WA
UID:e.26.8269
SEQUENCE:3
DTSTAMP:20260425T195341Z
URL:https://chamber.graysharbor.org/events/details/an-enchanted-evening-8269
END:VEVENT

END:VCALENDAR
