BEGIN:VCALENDAR
VERSION:2.0
PRODID:-//ChamberMaster//Event Calendar 2.0//EN
METHOD:PUBLISH
X-PUBLISHED-TTL:P3D
REFRESH-INTERVAL:P3D
CALSCALE:GREGORIAN
BEGIN:VEVENT
DTSTART:20171112T020000Z
DTEND:20171112T050000Z
X-MICROSOFT-CDO-ALLDAYEVENT:FALSE
SUMMARY:An Evening of Hope
DESCRIPTION:You are cordially invited to an unforgetable evening in support of our Grays Harbor Community Hospital Foundation.\n\n\n\nThe Foundation's mission is to raise funds to support Grays Harbor Community Hospital programs\, services and capital needs. In years past the Foundation's efforts have raised funds to purchase a fleet of portable EKG machines\, new bassinets for the Family Birth Center\, furniture for the lobbies and surgical waiting rooms\, Urology equipment helping those with kidney stone issues and comfortable chairs for the Ambulatory Infusion Services patients\, literally touching more than 98\,000 patients and their visitors.
X-ALT-DESC;FMTTYPE=text/html:<span style="color: rgb(75\, 79\, 86)\; font-family: Helvetica\, Arial\, sans-serif\; font-size: 14px\; background-color: rgb(255\, 255\, 255)\;">You are cordially invited to an unforgetable evening in support of our Grays Harbor Community Hospital Foundation.</span><br style="color: rgb(75\, 79\, 86)\; font-family: Helvetica\, Arial\, sans-serif\; font-size: 14px\; background-color: rgb(255\, 255\, 255)\;" />\n<br style="color: rgb(75\, 79\, 86)\; font-family: Helvetica\, Arial\, sans-serif\; font-size: 14px\; background-color: rgb(255\, 255\, 255)\;" />\n<span style="color: rgb(75\, 79\, 86)\; font-family: Helvetica\, Arial\, sans-serif\; font-size: 14px\; background-color: rgb(255\, 255\, 255)\;">The Foundation&rsquo\;s mission is to raise funds to support Grays Harbor Community Hospital programs\, services and capital needs. In years past the Foundation&rsquo\;s efforts have raised funds to purchase a fleet of portable EKG machines\, new bassinets for the Family Birth Center\, furniture for the lobbies and surgical waiting rooms\, Urology equipment helping those with kidney stone issues and comfortable chairs for the Ambulatory Infusion Services patients\, literally touching more than 98\,000 patients and their visitors.</span>
LOCATION:D&R Event Center 122 E Heron St. Aberdeen\, WA
UID:e.26.8307
SEQUENCE:3
DTSTAMP:20260425T195736Z
URL:https://chamber.graysharbor.org/events/details/an-evening-of-hope-8307
END:VEVENT

END:VCALENDAR
