BEGIN:VCALENDAR
VERSION:2.0
PRODID:-//ChamberMaster//Event Calendar 2.0//EN
METHOD:PUBLISH
X-PUBLISHED-TTL:P3D
REFRESH-INTERVAL:P3D
CALSCALE:GREGORIAN
BEGIN:VEVENT
DTSTART:20190720T030000Z
DTEND:20190720T050000Z
X-MICROSOFT-CDO-ALLDAYEVENT:FALSE
SUMMARY:An Evening on Mount Olympus
DESCRIPTION:Come on our to Mount Olympus Brewery in downtown Aberdeen for a couple of course of originals and some well known hits\, acoustically presented by local artist Ryan Baker. \nAll ages are welcome!
X-ALT-DESC;FMTTYPE=text/html:<span style="font-size:14px\;"><font color="#1d2129" style="font-family: Arial\, sans-serif\;"><span style="white-space: pre-wrap\;">Come on our to Mount Olympus Brewery in downtown Aberdeen for a couple of course of originals and some well known hits\, acoustically presented by local artist Ryan Baker.&nbsp\;</span></font></span>\n<div style="font-family: Arial\, sans-serif\;"><span style="font-size:14px\;"><font color="#1d2129" face="system-ui\, -apple-system\, BlinkMacSystemFont\, .SFNSText-Regular\, sans-serif"><span style="white-space: pre-wrap\;">All ages are welcome!</span><span style="white-space: pre-wrap\;"> </span></font></span></div>\n\n<div style="font-family: Arial\, sans-serif\;">&nbsp\;</div>\n\n<div style="font-family: Arial\, sans-serif\;">&nbsp\;</div>\n
LOCATION:105 W Heron St. Aberdeen\, WA
UID:e.26.12096
SEQUENCE:3
DTSTAMP:20260424T104018Z
URL:https://chamber.graysharbor.org/events/details/an-evening-on-mount-olympus-12096
END:VEVENT

END:VCALENDAR
